BEGIN:VCALENDAR
VERSION:2.0
PRODID:spatie/icalendar-generator
DESCRIPTION:Events from St. Anthony Mary Claret Roman Catholic Church
X-WR-CALDESC:Events from St. Anthony Mary Claret Roman Catholic Church
REFRESH-INTERVAL;VALUE=DURATION:PT1440M
X-PUBLISHED-TTL:PT1440M
BEGIN:VTIMEZONE
TZID:America/Chicago
BEGIN:DAYLIGHT
DTSTART:20220313T020000Z
TZOFFSETFROM:-0600
TZOFFSETTO:-0500
END:DAYLIGHT
BEGIN:STANDARD
DTSTART:20221106T020000Z
TZOFFSETFROM:-0500
TZOFFSETTO:-0600
END:STANDARD
BEGIN:DAYLIGHT
DTSTART:20230312T020000Z
TZOFFSETFROM:-0600
TZOFFSETTO:-0500
END:DAYLIGHT
END:VTIMEZONE
BEGIN:VTIMEZONE
TZID:UTC
BEGIN:STANDARD
DTSTART:20250726T084953Z
TZOFFSETFROM:+0000
TZOFFSETTO:+0000
END:STANDARD
END:VTIMEZONE
BEGIN:VEVENT
UID:1043-240
DTSTAMP:20260422T084953Z
SUMMARY:40 Days for Life
LOCATION:N/A
ORGANIZER;CN=samcsa:MAILTO:valerie.s.garcia@icloud.com
RRULE:FREQ=DAILY;UNTIL=20221106T000000Z
DTSTART;TZID=America/Chicago;VALUE=DATE:20221014
DTEND;TZID=America/Chicago;VALUE=DATE:20221015
X-ALT-DESC;FMTTYPE=TEXT/HTML:40 Days for Life is a community-based campaign
  that draws attention to the evil of abortion while offering alternatives 
 to those in crisis pregnancy through the use of a three-point program: Pra
 yer and Fasting Constant Vigil Community Outreach Vision and mission 40 Da
 ys for Life is a focused pro-life campaign with a vision to access&amp;hellip\
 ;
CATEGORIES:Community events
URL;VALUE=URI:https://samcsa.com/mc-events/40-days-for-life/?mc_id=1043
METHOD:PUBLISH
END:VEVENT
END:VCALENDAR