BEGIN:VCALENDAR
VERSION:2.0
PRODID:spatie/icalendar-generator
DESCRIPTION:Events from St. Anthony Mary Claret Roman Catholic Church
X-WR-CALDESC:Events from St. Anthony Mary Claret Roman Catholic Church
REFRESH-INTERVAL;VALUE=DURATION:PT1440M
X-PUBLISHED-TTL:PT1440M
BEGIN:VTIMEZONE
TZID:America/Chicago
BEGIN:STANDARD
DTSTART:20221106T020000Z
TZOFFSETFROM:-0500
TZOFFSETTO:-0600
END:STANDARD
BEGIN:DAYLIGHT
DTSTART:20230312T020000Z
TZOFFSETFROM:-0600
TZOFFSETTO:-0500
END:DAYLIGHT
END:VTIMEZONE
BEGIN:VTIMEZONE
TZID:UTC
BEGIN:STANDARD
DTSTART:20250726T225833Z
TZOFFSETFROM:+0000
TZOFFSETTO:+0000
END:STANDARD
END:VTIMEZONE
BEGIN:VEVENT
UID:1088-258
DTSTAMP:20260422T225833Z
SUMMARY:NFP Series
LOCATION:N/A
ORGANIZER;CN=samcsa:MAILTO:valerie.s.garcia@icloud.com
DTSTART;TZID=America/Chicago;VALUE=DATE:20230205
DTEND;TZID=America/Chicago;VALUE=DATE:20230206
X-ALT-DESC;FMTTYPE=TEXT/HTML:Main NFP Series - Onsite - English - Glowe\, C
 hris and Nicole St. Anthony Claret 6150 Roft Rd San Antonio\, Texas 78253 
 Class Date 1: Sunday\, Jan 15th 2023\, 7:00 am Class Date 2: Sunday\, Ja
 n 15th 2023\, 7:00 am Class Date 3: Sunday\, Feb 5th 2023\, 7:00 am Class
  Time Zone: Central Time
CATEGORIES:Parish events
URL;VALUE=URI:https://samcsa.com/mc-events/nfp-series-2/
METHOD:PUBLISH
END:VEVENT
END:VCALENDAR