BEGIN:VCALENDAR
VERSION:2.0
PRODID:spatie/icalendar-generator
DESCRIPTION:Events from St. Anthony Mary Claret Roman Catholic Church
X-WR-CALDESC:Events from St. Anthony Mary Claret Roman Catholic Church
REFRESH-INTERVAL;VALUE=DURATION:PT1440M
X-PUBLISHED-TTL:PT1440M
BEGIN:VTIMEZONE
TZID:America/Chicago
BEGIN:STANDARD
DTSTART:20221106T020000Z
TZOFFSETFROM:-0500
TZOFFSETTO:-0600
END:STANDARD
BEGIN:DAYLIGHT
DTSTART:20230312T020000Z
TZOFFSETFROM:-0600
TZOFFSETTO:-0500
END:DAYLIGHT
END:VTIMEZONE
BEGIN:VTIMEZONE
TZID:UTC
BEGIN:STANDARD
DTSTART:20250726T012350Z
TZOFFSETFROM:+0000
TZOFFSETTO:+0000
END:STANDARD
END:VTIMEZONE
BEGIN:VEVENT
UID:1618-492
DTSTAMP:20260422T012350Z
SUMMARY:Baptism class
LOCATION:Hubertus Hall 6150 Roft Road  San Antonio Texas 78253
ORGANIZER;CN=samcsa:MAILTO:valerie.s.garcia@icloud.com
RRULE:FREQ=MONTHLY;BYDAY=1TU;UNTIL=20251230T000000Z
DTSTART;TZID=America/Chicago:20230103T190000
DTEND;TZID=America/Chicago:20230103T203000
X-ALT-DESC;FMTTYPE=TEXT/HTML:No child care is provided so please make other
  arrangements for your children. It is necessary to call or come to regist
 er for the class. Parents and Godparents are required to attend.
CATEGORIES:Parish events
URL;VALUE=URI:https://samcsa.com/mc-events/baptism-class-3/?mc_id=1618
METHOD:PUBLISH
END:VEVENT
END:VCALENDAR