BEGIN:VCALENDAR
VERSION:2.0
PRODID:spatie/icalendar-generator
DESCRIPTION:Events from St. Anthony Mary Claret Roman Catholic Church
X-WR-CALDESC:Events from St. Anthony Mary Claret Roman Catholic Church
REFRESH-INTERVAL;VALUE=DURATION:PT1440M
X-PUBLISHED-TTL:PT1440M
BEGIN:VTIMEZONE
TZID:America/Chicago
BEGIN:STANDARD
DTSTART:20221106T020000Z
TZOFFSETFROM:-0500
TZOFFSETTO:-0600
END:STANDARD
BEGIN:DAYLIGHT
DTSTART:20230312T020000Z
TZOFFSETFROM:-0600
TZOFFSETTO:-0500
END:DAYLIGHT
END:VTIMEZONE
BEGIN:VTIMEZONE
TZID:UTC
BEGIN:STANDARD
DTSTART:20250726T012214Z
TZOFFSETFROM:+0000
TZOFFSETTO:+0000
END:STANDARD
END:VTIMEZONE
BEGIN:VEVENT
UID:1696-497
DTSTAMP:20260422T012214Z
SUMMARY:9 Days for Life
LOCATION:N/A
ORGANIZER;CN=samcsa:MAILTO:valerie.s.garcia@icloud.com
RRULE:FREQ=DAILY;UNTIL=20230127T000000Z
DTSTART;TZID=America/Chicago;VALUE=DATE:20230119
DTEND;TZID=America/Chicago;VALUE=DATE:20230120
X-ALT-DESC;FMTTYPE=TEXT/HTML:9 Days for Life is a novena for the protectio
 n of human life. Each day’s intention is accompanied by a short reflecti
 on and suggested actions to help build a culture of life.
CATEGORIES:Community events
URL;VALUE=URI:https://samcsa.com/mc-events/9-days-for-life/?mc_id=1696
METHOD:PUBLISH
END:VEVENT
END:VCALENDAR