BEGIN:VCALENDAR
VERSION:2.0
PRODID:spatie/icalendar-generator
DESCRIPTION:Events from St. Anthony Mary Claret Roman Catholic Church
X-WR-CALDESC:Events from St. Anthony Mary Claret Roman Catholic Church
REFRESH-INTERVAL;VALUE=DURATION:PT1440M
X-PUBLISHED-TTL:PT1440M
BEGIN:VTIMEZONE
TZID:America/Chicago
BEGIN:DAYLIGHT
DTSTART:20230312T020000Z
TZOFFSETFROM:-0600
TZOFFSETTO:-0500
END:DAYLIGHT
BEGIN:STANDARD
DTSTART:20231105T020000Z
TZOFFSETFROM:-0500
TZOFFSETTO:-0600
END:STANDARD
END:VTIMEZONE
BEGIN:VTIMEZONE
TZID:UTC
BEGIN:STANDARD
DTSTART:20250726T222841Z
TZOFFSETFROM:+0000
TZOFFSETTO:+0000
END:STANDARD
END:VTIMEZONE
BEGIN:VEVENT
UID:1854-502
DTSTAMP:20260422T222841Z
SUMMARY:The Gabriel Project
LOCATION:Building A (Pantry &amp;amp\; Gabriel Project) 6150 Roft Road  San Ant
 onio Texas 78253
ORGANIZER;CN=samcsa:MAILTO:valerie.s.garcia@icloud.com
RRULE:FREQ=WEEKLY;UNTIL=20251231T000000Z
DTSTART;TZID=America/Chicago;VALUE=DATE:20230817
DTEND;TZID=America/Chicago;VALUE=DATE:20230818
X-ALT-DESC;FMTTYPE=TEXT/HTML:Open on Thursdays: 9:30 a.m. – 12:30 p.m. 5:
 30 p.m. – 7:30 p.m. The Gabriel Project is a faith-based outreach progr
 am that repeats the same message of hope to pregnant women in need today. 
 We work to end abortion\, abandonment\, abuse\, and neglect due to the ina
 bility to provide for the needs of the child.
CATEGORIES:Parish events
URL;VALUE=URI:https://samcsa.com/mc-events/the-gabriel-project/?mc_id=1854
METHOD:PUBLISH
END:VEVENT
END:VCALENDAR