BEGIN:VCALENDAR
VERSION:2.0
PRODID:spatie/icalendar-generator
DESCRIPTION:Events from St. Anthony Mary Claret Roman Catholic Church
X-WR-CALDESC:Events from St. Anthony Mary Claret Roman Catholic Church
REFRESH-INTERVAL;VALUE=DURATION:PT1440M
X-PUBLISHED-TTL:PT1440M
BEGIN:VTIMEZONE
TZID:America/Chicago
BEGIN:STANDARD
DTSTART:20221106T020000Z
TZOFFSETFROM:-0500
TZOFFSETTO:-0600
END:STANDARD
BEGIN:DAYLIGHT
DTSTART:20230312T020000Z
TZOFFSETFROM:-0600
TZOFFSETTO:-0500
END:DAYLIGHT
END:VTIMEZONE
BEGIN:VTIMEZONE
TZID:UTC
BEGIN:STANDARD
DTSTART:20250726T164531Z
TZOFFSETFROM:+0000
TZOFFSETTO:+0000
END:STANDARD
END:VTIMEZONE
BEGIN:VEVENT
UID:1929-507
DTSTAMP:20260422T164531Z
SUMMARY:Mass for Life
LOCATION:N/A
ORGANIZER;CN=samcsa:MAILTO:valerie.s.garcia@icloud.com
DTSTART;TZID=America/Chicago:20230122T170000
DTEND;TZID=America/Chicago:20230122T180000
X-ALT-DESC;FMTTYPE=TEXT/HTML:Archbishop Gustavo Garcia-Siller\, M.Sp.S. wil
 l celebrate a special Mass for life at San Fernando Cathedral on Sunday\, 
 January 22 at 5:00 PM. Join him as we pray in thanksgiving for the 2022 D
 obbs v. Jackson ruling and continue to pray for pregnant and parenting m
 others in need. Visit our Culture of Life website for prayers\, resource
 s\, and more.
CATEGORIES:Community events
URL;VALUE=URI:https://samcsa.com/mc-events/mass-for-life/
METHOD:PUBLISH
END:VEVENT
END:VCALENDAR