BEGIN:VCALENDAR
VERSION:2.0
PRODID:spatie/icalendar-generator
DESCRIPTION:Events from St. Anthony Mary Claret Roman Catholic Church
X-WR-CALDESC:Events from St. Anthony Mary Claret Roman Catholic Church
REFRESH-INTERVAL;VALUE=DURATION:PT1440M
X-PUBLISHED-TTL:PT1440M
BEGIN:VTIMEZONE
TZID:America/Chicago
BEGIN:STANDARD
DTSTART:20221106T020000Z
TZOFFSETFROM:-0500
TZOFFSETTO:-0600
END:STANDARD
BEGIN:DAYLIGHT
DTSTART:20230312T020000Z
TZOFFSETFROM:-0600
TZOFFSETTO:-0500
END:DAYLIGHT
END:VTIMEZONE
BEGIN:VTIMEZONE
TZID:UTC
BEGIN:STANDARD
DTSTART:20250727T025628Z
TZOFFSETFROM:+0000
TZOFFSETTO:+0000
END:STANDARD
END:VTIMEZONE
BEGIN:VEVENT
UID:1933-508
DTSTAMP:20260423T025628Z
SUMMARY:National Catholic Schools Week
LOCATION:N/A
ORGANIZER;CN=samcsa:MAILTO:valerie.s.garcia@icloud.com
RRULE:FREQ=DAILY;UNTIL=20230203T000000Z
DTSTART;TZID=America/Chicago;VALUE=DATE:20230201
DTEND;TZID=America/Chicago;VALUE=DATE:20230202
X-ALT-DESC;FMTTYPE=TEXT/HTML:National Catholic Schools Week is the annual c
 elebration of Catholic education in the United States. It starts the last 
 Sunday in January and runs all week\, which in 2023 is January 29 – Febr
 uary 3. Catholic schools in the Archdiocese of San Antonio are dynamic l
 earning communities serving nearly 9\,000 students in Pre-K through 12th g
 rade. As&amp;hellip\;
CATEGORIES:Community events
URL;VALUE=URI:https://samcsa.com/mc-events/national-catholic-schools-week/?
 mc_id=1933
METHOD:PUBLISH
END:VEVENT
END:VCALENDAR