BEGIN:VCALENDAR
VERSION:2.0
PRODID:spatie/icalendar-generator
DESCRIPTION:Events from St. Anthony Mary Claret Roman Catholic Church
X-WR-CALDESC:Events from St. Anthony Mary Claret Roman Catholic Church
REFRESH-INTERVAL;VALUE=DURATION:PT1440M
X-PUBLISHED-TTL:PT1440M
BEGIN:VTIMEZONE
TZID:America/Chicago
BEGIN:STANDARD
DTSTART:20221106T020000Z
TZOFFSETFROM:-0500
TZOFFSETTO:-0600
END:STANDARD
BEGIN:DAYLIGHT
DTSTART:20230312T020000Z
TZOFFSETFROM:-0600
TZOFFSETTO:-0500
END:DAYLIGHT
BEGIN:STANDARD
DTSTART:20231105T020000Z
TZOFFSETFROM:-0500
TZOFFSETTO:-0600
END:STANDARD
END:VTIMEZONE
BEGIN:VTIMEZONE
TZID:UTC
BEGIN:STANDARD
DTSTART:20250726T223303Z
TZOFFSETFROM:+0000
TZOFFSETTO:+0000
END:STANDARD
END:VTIMEZONE
BEGIN:VEVENT
UID:1944-511
DTSTAMP:20260422T223303Z
SUMMARY:Ladies of St. Anthony Claret meeting
LOCATION:Hubertus Hall 6150 Roft Road  San Antonio Texas 78253
ORGANIZER;CN=samcsa:MAILTO:valerie.s.garcia@icloud.com
RRULE:FREQ=MONTHLY;BYDAY=4SU;UNTIL=20231231T000000Z
DTSTART;TZID=America/Chicago:20230528T120000
DTEND;TZID=America/Chicago:20230528T130000
X-ALT-DESC;FMTTYPE=TEXT/HTML:
CATEGORIES:Parish events
URL;VALUE=URI:https://samcsa.com/mc-events/ladies-of-st-anthony-claret-meet
 ing-3/?mc_id=1944
METHOD:PUBLISH
END:VEVENT
END:VCALENDAR