BEGIN:VCALENDAR
VERSION:2.0
PRODID:spatie/icalendar-generator
DESCRIPTION:Events from St. Anthony Mary Claret Roman Catholic Church
X-WR-CALDESC:Events from St. Anthony Mary Claret Roman Catholic Church
REFRESH-INTERVAL;VALUE=DURATION:PT1440M
X-PUBLISHED-TTL:PT1440M
BEGIN:VTIMEZONE
TZID:America/Chicago
BEGIN:STANDARD
DTSTART:20221106T020000Z
TZOFFSETFROM:-0500
TZOFFSETTO:-0600
END:STANDARD
BEGIN:DAYLIGHT
DTSTART:20230312T020000Z
TZOFFSETFROM:-0600
TZOFFSETTO:-0500
END:DAYLIGHT
END:VTIMEZONE
BEGIN:VTIMEZONE
TZID:UTC
BEGIN:STANDARD
DTSTART:20250726T073210Z
TZOFFSETFROM:+0000
TZOFFSETTO:+0000
END:STANDARD
END:VTIMEZONE
BEGIN:VEVENT
UID:1953-513
DTSTAMP:20260422T073210Z
SUMMARY:A Day with the Holy Spirit Retreat More than wind and fire
LOCATION:N/A
ORGANIZER;CN=samcsa:MAILTO:valerie.s.garcia@icloud.com
DTSTART;TZID=America/Chicago:20230128T080000
DTEND;TZID=America/Chicago:20230128T090000
X-ALT-DESC;FMTTYPE=TEXT/HTML:Learn about the Holy Spirit The Forgotten God 
 The Holy Spirit in the Rosary The Gifts and Fruit of the Holy Spirit More 
 Than Wind and Fire $10 Retreat cost includes: Continental breakfast\, snac
 ks\, lunch Table discussions\, prayer\, praise and worship Presented by De
 acon Evan Wittig Contact by email egwittig@outlook.com or call 210-316-449
 5.  Sponsored by   &amp;hellip\;
CATEGORIES:Community events
URL;VALUE=URI:https://samcsa.com/mc-events/a-day-with-the-holy-spirit-retre
 at-more-than-wind-and-fire/
METHOD:PUBLISH
END:VEVENT
END:VCALENDAR