BEGIN:VCALENDAR
VERSION:2.0
PRODID:spatie/icalendar-generator
DESCRIPTION:Events from St. Anthony Mary Claret Roman Catholic Church
X-WR-CALDESC:Events from St. Anthony Mary Claret Roman Catholic Church
REFRESH-INTERVAL;VALUE=DURATION:PT1440M
X-PUBLISHED-TTL:PT1440M
BEGIN:VTIMEZONE
TZID:America/Chicago
BEGIN:STANDARD
DTSTART:20221106T020000Z
TZOFFSETFROM:-0500
TZOFFSETTO:-0600
END:STANDARD
BEGIN:DAYLIGHT
DTSTART:20230312T020000Z
TZOFFSETFROM:-0600
TZOFFSETTO:-0500
END:DAYLIGHT
END:VTIMEZONE
BEGIN:VTIMEZONE
TZID:UTC
BEGIN:STANDARD
DTSTART:20250726T214732Z
TZOFFSETFROM:+0000
TZOFFSETTO:+0000
END:STANDARD
END:VTIMEZONE
BEGIN:VEVENT
UID:2483-561
DTSTAMP:20260422T214732Z
SUMMARY:Introduction to American Sign Language
LOCATION:N/A
ORGANIZER;CN=samcsa:MAILTO:valerie.s.garcia@icloud.com
DTSTART;TZID=America/Chicago:20230302T183000
DTEND;TZID=America/Chicago:20230302T193000
X-ALT-DESC;FMTTYPE=TEXT/HTML:8 Classes: February 23-April 27\, 2023 6:
 30-8:00 PM Our Lady of Sorrows Catholic Church\, Chavez Center 310
 7 N. St. Mary's St.\, San Antonio\, TX 78212 (Directions) Instruc
 tor: Gregory M. Potter ASL Teacher\, Active Catholic Deaf Communit
 y Member Cost: Free of Charge Thanks to contributions to the Arch
 bishop's Appeal Participants will learn introductory American Sign 
 Language (ASL) and some specialized Catholic sign vocabulary\, und
 erstand culturally-appropriate behaviors\, and be able to connect 
 with those who use ASL to communicate. Classes are open to all.
  No previous ASL training is required. Class Schedule: First Class
 : Thursday\, February 23 Class 2: Thursday\, March 2 Class 3: Thu
 rsday\, March 9 Class 4: Thursday\, March 23 Class 5: Thursday\, 
 March 30 Class 6: Thursday\, April 13 Class 7: Thursday\, April 2
 0 Last Class: Thursday\, April 27
CATEGORIES:Community events
URL;VALUE=URI:https://samcsa.com/mc-events/introduction-to-american-sign-la
 nguage-2/
METHOD:PUBLISH
END:VEVENT
END:VCALENDAR