BEGIN:VCALENDAR
VERSION:2.0
PRODID:spatie/icalendar-generator
DESCRIPTION:Events from St. Anthony Mary Claret Roman Catholic Church
X-WR-CALDESC:Events from St. Anthony Mary Claret Roman Catholic Church
REFRESH-INTERVAL;VALUE=DURATION:PT1440M
X-PUBLISHED-TTL:PT1440M
BEGIN:VTIMEZONE
TZID:America/Chicago
BEGIN:DAYLIGHT
DTSTART:20230312T020000Z
TZOFFSETFROM:-0600
TZOFFSETTO:-0500
END:DAYLIGHT
BEGIN:STANDARD
DTSTART:20231105T020000Z
TZOFFSETFROM:-0500
TZOFFSETTO:-0600
END:STANDARD
BEGIN:DAYLIGHT
DTSTART:20240310T020000Z
TZOFFSETFROM:-0600
TZOFFSETTO:-0500
END:DAYLIGHT
END:VTIMEZONE
BEGIN:VTIMEZONE
TZID:UTC
BEGIN:STANDARD
DTSTART:20250726T225807Z
TZOFFSETFROM:+0000
TZOFFSETTO:+0000
END:STANDARD
END:VTIMEZONE
BEGIN:VEVENT
UID:2667-632
DTSTAMP:20260422T225807Z
SUMMARY:Silent Retreat
LOCATION:N/A
ORGANIZER;CN=samcsa:MAILTO:valerie.s.garcia@icloud.com
DTSTART;TZID=America/Chicago;VALUE=DATE:20230922
DTEND;TZID=America/Chicago;VALUE=DATE:20230923
X-ALT-DESC;FMTTYPE=TEXT/HTML:ST. PETER UPON THE WATER WILL OFFER A DIRECTED
  SILENT RETREAT FOR WOMEN ON FRIDAY\, SEPTEMBER 22 - SUNDAY\, SEPTEMBER 24
 \, 2023. The retreat will be held at Oblate Retreat Center\, San Antonio T
 X. More information and registration will be online by mid-August 2023.
CATEGORIES:Community events
URL;VALUE=URI:https://samcsa.com/mc-events/silent-retreat/
METHOD:PUBLISH
END:VEVENT
END:VCALENDAR