BEGIN:VCALENDAR
VERSION:2.0
PRODID:spatie/icalendar-generator
DESCRIPTION:Events from St. Anthony Mary Claret Roman Catholic Church
X-WR-CALDESC:Events from St. Anthony Mary Claret Roman Catholic Church
REFRESH-INTERVAL;VALUE=DURATION:PT1440M
X-PUBLISHED-TTL:PT1440M
BEGIN:VTIMEZONE
TZID:America/Chicago
BEGIN:STANDARD
DTSTART:20221106T020000Z
TZOFFSETFROM:-0500
TZOFFSETTO:-0600
END:STANDARD
BEGIN:DAYLIGHT
DTSTART:20230312T020000Z
TZOFFSETFROM:-0600
TZOFFSETTO:-0500
END:DAYLIGHT
BEGIN:STANDARD
DTSTART:20231105T020000Z
TZOFFSETFROM:-0500
TZOFFSETTO:-0600
END:STANDARD
END:VTIMEZONE
BEGIN:VTIMEZONE
TZID:UTC
BEGIN:STANDARD
DTSTART:20250726T140105Z
TZOFFSETFROM:+0000
TZOFFSETTO:+0000
END:STANDARD
END:VTIMEZONE
BEGIN:VEVENT
UID:2679-644
DTSTAMP:20260422T140105Z
SUMMARY:Safety Whys Baby Sitter Training
LOCATION:N/A
ORGANIZER;CN=samcsa:MAILTO:valerie.s.garcia@icloud.com
DTSTART;TZID=America/Chicago;VALUE=DATE:20230513
DTEND;TZID=America/Chicago;VALUE=DATE:20230514
X-ALT-DESC;FMTTYPE=TEXT/HTML:Registrations are on a first come\, first serv
 e basis upon reciept of payment. Once you complete the form below\, you'll
  be taken to a secure payment website to complete your payment and regis
 tration. With respect to our volunteer speakers\, if there are less than 7
  students registered 3 days ahead of the scheduled course\, the class will
 &amp;hellip\;
CATEGORIES:Community events
URL;VALUE=URI:https://samcsa.com/mc-events/safety-whys-baby-sitter-training
 /
METHOD:PUBLISH
END:VEVENT
END:VCALENDAR