BEGIN:VCALENDAR
VERSION:2.0
PRODID:spatie/icalendar-generator
DESCRIPTION:Events from St. Anthony Mary Claret Roman Catholic Church
X-WR-CALDESC:Events from St. Anthony Mary Claret Roman Catholic Church
REFRESH-INTERVAL;VALUE=DURATION:PT1440M
X-PUBLISHED-TTL:PT1440M
BEGIN:VTIMEZONE
TZID:America/Chicago
BEGIN:STANDARD
DTSTART:20221106T020000Z
TZOFFSETFROM:-0500
TZOFFSETTO:-0600
END:STANDARD
BEGIN:DAYLIGHT
DTSTART:20230312T020000Z
TZOFFSETFROM:-0600
TZOFFSETTO:-0500
END:DAYLIGHT
BEGIN:STANDARD
DTSTART:20231105T020000Z
TZOFFSETFROM:-0500
TZOFFSETTO:-0600
END:STANDARD
END:VTIMEZONE
BEGIN:VTIMEZONE
TZID:UTC
BEGIN:STANDARD
DTSTART:20250726T225931Z
TZOFFSETFROM:+0000
TZOFFSETTO:+0000
END:STANDARD
END:VTIMEZONE
BEGIN:VEVENT
UID:2717-674
DTSTAMP:20260422T225931Z
SUMMARY:BEHOLD Young Women's Retreat
LOCATION:N/A
ORGANIZER;CN=samcsa:MAILTO:valerie.s.garcia@icloud.com
DTSTART;TZID=America/Chicago;VALUE=DATE:20230601
DTEND;TZID=America/Chicago;VALUE=DATE:20230602
X-ALT-DESC;FMTTYPE=TEXT/HTML:We invite you to come discover and behold!  
 This June 1st-4th\, we will spend a weekend in the shadow of the Marian S
 choenstatt Shrine in Rockport\, Texas\, in order to take some time for pra
 yer\, reflection\, and solid fellowship with a community of like-minded Ca
 tholic women! We will have holy Mass\, talks\, adoration\, activities\, t
 ime for silent prayer\,&amp;hellip\;
CATEGORIES:Community events
URL;VALUE=URI:https://samcsa.com/mc-events/behold-young-womens-retreat/
METHOD:PUBLISH
END:VEVENT
END:VCALENDAR