BEGIN:VCALENDAR
VERSION:2.0
PRODID:spatie/icalendar-generator
DESCRIPTION:Events from St. Anthony Mary Claret Roman Catholic Church
X-WR-CALDESC:Events from St. Anthony Mary Claret Roman Catholic Church
REFRESH-INTERVAL;VALUE=DURATION:PT1440M
X-PUBLISHED-TTL:PT1440M
BEGIN:VTIMEZONE
TZID:America/Chicago
BEGIN:STANDARD
DTSTART:20221106T020000Z
TZOFFSETFROM:-0500
TZOFFSETTO:-0600
END:STANDARD
BEGIN:DAYLIGHT
DTSTART:20230312T020000Z
TZOFFSETFROM:-0600
TZOFFSETTO:-0500
END:DAYLIGHT
BEGIN:STANDARD
DTSTART:20231105T020000Z
TZOFFSETFROM:-0500
TZOFFSETTO:-0600
END:STANDARD
END:VTIMEZONE
BEGIN:VTIMEZONE
TZID:UTC
BEGIN:STANDARD
DTSTART:20250726T214856Z
TZOFFSETFROM:+0000
TZOFFSETTO:+0000
END:STANDARD
END:VTIMEZONE
BEGIN:VEVENT
UID:2722-678
DTSTAMP:20260422T214856Z
SUMMARY:Summer Camps by Catholic Charities
LOCATION:N/A
ORGANIZER;CN=samcsa:MAILTO:valerie.s.garcia@icloud.com
RRULE:FREQ=DAILY;BYDAY=MO,TU,WE,TH,FR;UNTIL=20230728T000000Z
DTSTART;TZID=America/Chicago;VALUE=DATE:20230613
DTEND;TZID=America/Chicago;VALUE=DATE:20230614
X-ALT-DESC;FMTTYPE=TEXT/HTML:Guadalupe Community Center will be hosting Sum
 mer Camps for free to families from June 12-July 28\, Monday-Friday\, 8:00
 am-3:00pm at four locations: Guadalupe Community Center\, Our Lady of Guad
 alupe\, Holy Rosary\, and Our Lady of Perpetual Help. Campers will receive
  academic reinforcement with an emphasis on STEAM\, but will also be expos
 ed to coding\, photography\, gardening\,&amp;hellip\;
CATEGORIES:Community events
URL;VALUE=URI:https://samcsa.com/mc-events/summer-camps-by-catholic-chariti
 es/?mc_id=2722
METHOD:PUBLISH
END:VEVENT
END:VCALENDAR