BEGIN:VCALENDAR
VERSION:2.0
PRODID:spatie/icalendar-generator
DESCRIPTION:Events from St. Anthony Mary Claret Roman Catholic Church
X-WR-CALDESC:Events from St. Anthony Mary Claret Roman Catholic Church
REFRESH-INTERVAL;VALUE=DURATION:PT1440M
X-PUBLISHED-TTL:PT1440M
BEGIN:VTIMEZONE
TZID:America/Chicago
BEGIN:DAYLIGHT
DTSTART:20230312T020000Z
TZOFFSETFROM:-0600
TZOFFSETTO:-0500
END:DAYLIGHT
BEGIN:STANDARD
DTSTART:20231105T020000Z
TZOFFSETFROM:-0500
TZOFFSETTO:-0600
END:STANDARD
BEGIN:DAYLIGHT
DTSTART:20240310T020000Z
TZOFFSETFROM:-0600
TZOFFSETTO:-0500
END:DAYLIGHT
END:VTIMEZONE
BEGIN:VTIMEZONE
TZID:UTC
BEGIN:STANDARD
DTSTART:20250726T011117Z
TZOFFSETFROM:+0000
TZOFFSETTO:+0000
END:STANDARD
END:VTIMEZONE
BEGIN:VEVENT
UID:2847-744
DTSTAMP:20260422T011117Z
SUMMARY:Archdiocesan Eucharistic Congress
LOCATION:N/A
ORGANIZER;CN=samcsa:MAILTO:valerie.s.garcia@icloud.com
DTSTART;TZID=America/Chicago;VALUE=DATE:20231103
DTEND;TZID=America/Chicago;VALUE=DATE:20231104
X-ALT-DESC;FMTTYPE=TEXT/HTML:Archbishop Gustavo Garcia-Siller\, M.Sp.S.\, i
 nvites priests\, deacons\, men and women religious\, and all the people of
  God to continue the synodal journey towards the Eucharistic Renewal by pa
 rticipating in the Archdiocesan Eucharistic Congress. Let us open our hear
 ts for a moment of grace where a profound encounter with our Lord through 
 reflection and celebration of&amp;hellip\;
CATEGORIES:Community events
URL;VALUE=URI:https://samcsa.com/mc-events/archdiocesan-eucharistic-congres
 s-2/
METHOD:PUBLISH
END:VEVENT
END:VCALENDAR