BEGIN:VCALENDAR
VERSION:2.0
PRODID:spatie/icalendar-generator
DESCRIPTION:Events from St. Anthony Mary Claret Roman Catholic Church
X-WR-CALDESC:Events from St. Anthony Mary Claret Roman Catholic Church
REFRESH-INTERVAL;VALUE=DURATION:PT1440M
X-PUBLISHED-TTL:PT1440M
BEGIN:VTIMEZONE
TZID:America/Chicago
BEGIN:DAYLIGHT
DTSTART:20230312T020000Z
TZOFFSETFROM:-0600
TZOFFSETTO:-0500
END:DAYLIGHT
BEGIN:STANDARD
DTSTART:20231105T020000Z
TZOFFSETFROM:-0500
TZOFFSETTO:-0600
END:STANDARD
BEGIN:DAYLIGHT
DTSTART:20240310T020000Z
TZOFFSETFROM:-0600
TZOFFSETTO:-0500
END:DAYLIGHT
END:VTIMEZONE
BEGIN:VTIMEZONE
TZID:UTC
BEGIN:STANDARD
DTSTART:20250726T090526Z
TZOFFSETFROM:+0000
TZOFFSETTO:+0000
END:STANDARD
END:VTIMEZONE
BEGIN:VEVENT
UID:2994-867
DTSTAMP:20260422T090526Z
SUMMARY:Spiritual Warfare: The Rules of Engagement!
LOCATION:N/A
ORGANIZER;CN=samcsa:MAILTO:valerie.s.garcia@icloud.com
DTSTART;TZID=America/Chicago;VALUE=DATE:20230930
DTEND;TZID=America/Chicago;VALUE=DATE:20231001
X-ALT-DESC;FMTTYPE=TEXT/HTML:Fullness of Truth Austin Round Rock TX Spiritu
 al Warfare Sep 29 - Oct 01 2023 - click here for details A fierce war rage
 s for your soul….Are you ready for battle?   On September 29th -Feast 
 of St. Michael-thru October 1st at the brand new &amp;amp\; amazing Kalaha
 ri Resort &amp;amp\; Convention Center\, in Round Rock/Austin\, TX\, Fullne
 ss of Truth presents its timely Southern&amp;hellip\;
CATEGORIES:Community events
URL;VALUE=URI:https://samcsa.com/mc-events/spiritual-warfare-the-rules-of-e
 ngagement-2/
METHOD:PUBLISH
END:VEVENT
END:VCALENDAR