BEGIN:VCALENDAR
VERSION:2.0
PRODID:spatie/icalendar-generator
DESCRIPTION:Events from St. Anthony Mary Claret Roman Catholic Church
X-WR-CALDESC:Events from St. Anthony Mary Claret Roman Catholic Church
REFRESH-INTERVAL;VALUE=DURATION:PT1440M
X-PUBLISHED-TTL:PT1440M
BEGIN:VTIMEZONE
TZID:America/Chicago
BEGIN:DAYLIGHT
DTSTART:20230312T020000Z
TZOFFSETFROM:-0600
TZOFFSETTO:-0500
END:DAYLIGHT
BEGIN:STANDARD
DTSTART:20231105T020000Z
TZOFFSETFROM:-0500
TZOFFSETTO:-0600
END:STANDARD
BEGIN:DAYLIGHT
DTSTART:20240310T020000Z
TZOFFSETFROM:-0600
TZOFFSETTO:-0500
END:DAYLIGHT
END:VTIMEZONE
BEGIN:VTIMEZONE
TZID:UTC
BEGIN:STANDARD
DTSTART:20250726T225643Z
TZOFFSETFROM:+0000
TZOFFSETTO:+0000
END:STANDARD
END:VTIMEZONE
BEGIN:VEVENT
UID:2997-870
DTSTAMP:20260422T225643Z
SUMMARY:Retrouvaille of San Antonio
LOCATION:N/A
ORGANIZER;CN=samcsa:MAILTO:valerie.s.garcia@icloud.com
DTSTART;TZID=America/Chicago;VALUE=DATE:20230908
DTEND;TZID=America/Chicago;VALUE=DATE:20230909
X-ALT-DESC;FMTTYPE=TEXT/HTML:The Retrouvaille Program is for Married Couple
 s Facing Difficult Challenges in their Relationship A Marriage program tha
 t helps couples restore their marriage and rebuild a loving relationship. 
 A Christian marriage program\, Catholic in origin\, where couples of all f
 aiths or no faith background are encouraged to attend. Primarily a practic
 al program to improve communication\, build&amp;hellip\;
CATEGORIES:Community events
URL;VALUE=URI:https://samcsa.com/mc-events/retrouvaille-of-san-antonio/
METHOD:PUBLISH
END:VEVENT
END:VCALENDAR