BEGIN:VCALENDAR
VERSION:2.0
PRODID:spatie/icalendar-generator
DESCRIPTION:Events from St. Anthony Mary Claret Roman Catholic Church
X-WR-CALDESC:Events from St. Anthony Mary Claret Roman Catholic Church
REFRESH-INTERVAL;VALUE=DURATION:PT1440M
X-PUBLISHED-TTL:PT1440M
BEGIN:VTIMEZONE
TZID:America/Chicago
BEGIN:DAYLIGHT
DTSTART:20230312T020000Z
TZOFFSETFROM:-0600
TZOFFSETTO:-0500
END:DAYLIGHT
BEGIN:STANDARD
DTSTART:20231105T020000Z
TZOFFSETFROM:-0500
TZOFFSETTO:-0600
END:STANDARD
BEGIN:DAYLIGHT
DTSTART:20240310T020000Z
TZOFFSETFROM:-0600
TZOFFSETTO:-0500
END:DAYLIGHT
END:VTIMEZONE
BEGIN:VTIMEZONE
TZID:UTC
BEGIN:STANDARD
DTSTART:20250726T223852Z
TZOFFSETFROM:+0000
TZOFFSETTO:+0000
END:STANDARD
END:VTIMEZONE
BEGIN:VEVENT
UID:3126-919
DTSTAMP:20260422T223852Z
SUMMARY:Respect Life Mass
LOCATION:N/A
ORGANIZER;CN=samcsa:MAILTO:valerie.s.garcia@icloud.com
DTSTART;TZID=America/Chicago:20231007T163000
DTEND;TZID=America/Chicago:20231007T173000
X-ALT-DESC;FMTTYPE=TEXT/HTML:Respect Life Mass – 4:30PM Bishop Michael J
 . Boulette\, D.Min. Respect Life Panel – 5:45PM After mass\, join us fo
 r a Respect Life panel discussion to highlight opportunities for Radical S
 olidarity in our faith and community. Our Lady of Guadalupe Catholic Churc
 h (13715 Riggs Rd.\, San Antonio\, TX 78023) –  Directions
CATEGORIES:Community events
URL;VALUE=URI:https://samcsa.com/mc-events/respect-life-mass-2/
METHOD:PUBLISH
END:VEVENT
END:VCALENDAR