BEGIN:VCALENDAR
VERSION:2.0
PRODID:spatie/icalendar-generator
DESCRIPTION:Events from St. Anthony Mary Claret Roman Catholic Church
X-WR-CALDESC:Events from St. Anthony Mary Claret Roman Catholic Church
REFRESH-INTERVAL;VALUE=DURATION:PT1440M
X-PUBLISHED-TTL:PT1440M
BEGIN:VTIMEZONE
TZID:America/Chicago
BEGIN:DAYLIGHT
DTSTART:20230312T020000Z
TZOFFSETFROM:-0600
TZOFFSETTO:-0500
END:DAYLIGHT
BEGIN:STANDARD
DTSTART:20231105T020000Z
TZOFFSETFROM:-0500
TZOFFSETTO:-0600
END:STANDARD
BEGIN:DAYLIGHT
DTSTART:20240310T020000Z
TZOFFSETFROM:-0600
TZOFFSETTO:-0500
END:DAYLIGHT
END:VTIMEZONE
BEGIN:VTIMEZONE
TZID:UTC
BEGIN:STANDARD
DTSTART:20250726T114151Z
TZOFFSETFROM:+0000
TZOFFSETTO:+0000
END:STANDARD
END:VTIMEZONE
BEGIN:VEVENT
UID:3127-920
DTSTAMP:20260422T114151Z
SUMMARY:AWC Fall Luncheon​​​​​​​​
LOCATION:N/A
ORGANIZER;CN=samcsa:MAILTO:valerie.s.garcia@icloud.com
DTSTART;TZID=America/Chicago:20231005T113000
DTEND;TZID=America/Chicago:20231005T123000
X-ALT-DESC;FMTTYPE=TEXT/HTML:Thursday\, October 5\, 2023​​​ 11:30 am 
 - 1:00 pm (11 am check in) ​ San Antonio Country Club 4100 N New Braunf
 els Ave San Antonio\, TX 78209​ AWC Fall Luncheon​​​​​​​
 ​ ​​\"[The Lord] has sent me to bind up the brokenhearted\, to procl
 aim freedom for the captives and release from darkness for the prisoners\"
  Isaiah 61:1 ​Set&amp;hellip\;
CATEGORIES:Community events
URL;VALUE=URI:https://samcsa.com/mc-events/awc-fall-luncheon/
METHOD:PUBLISH
END:VEVENT
END:VCALENDAR