BEGIN:VCALENDAR
VERSION:2.0
PRODID:spatie/icalendar-generator
DESCRIPTION:Events from St. Anthony Mary Claret Roman Catholic Church
X-WR-CALDESC:Events from St. Anthony Mary Claret Roman Catholic Church
REFRESH-INTERVAL;VALUE=DURATION:PT1440M
X-PUBLISHED-TTL:PT1440M
BEGIN:VTIMEZONE
TZID:America/Chicago
BEGIN:DAYLIGHT
DTSTART:20230312T020000Z
TZOFFSETFROM:-0600
TZOFFSETTO:-0500
END:DAYLIGHT
BEGIN:STANDARD
DTSTART:20231105T020000Z
TZOFFSETFROM:-0500
TZOFFSETTO:-0600
END:STANDARD
BEGIN:DAYLIGHT
DTSTART:20240310T020000Z
TZOFFSETFROM:-0600
TZOFFSETTO:-0500
END:DAYLIGHT
END:VTIMEZONE
BEGIN:VTIMEZONE
TZID:UTC
BEGIN:STANDARD
DTSTART:20250726T021947Z
TZOFFSETFROM:+0000
TZOFFSETTO:+0000
END:STANDARD
END:VTIMEZONE
BEGIN:VEVENT
UID:3195-945
DTSTAMP:20260422T021947Z
SUMMARY:40 Days for Life
LOCATION:Planned Parenthood Abortion facility 2140 Babcock Road  San Antoni
 o Texas 78229
ORGANIZER;CN=samcsa:MAILTO:valerie.s.garcia@icloud.com
RRULE:FREQ=DAILY;UNTIL=20231106T000000Z
DTSTART;TZID=America/Chicago;VALUE=DATE:20231104
DTEND;TZID=America/Chicago;VALUE=DATE:20231105
X-ALT-DESC;FMTTYPE=TEXT/HTML:
CATEGORIES:Community events
URL;VALUE=URI:https://samcsa.com/mc-events/40-days-for-life-3/?mc_id=3195
METHOD:PUBLISH
END:VEVENT
END:VCALENDAR