BEGIN:VCALENDAR
VERSION:2.0
PRODID:spatie/icalendar-generator
DESCRIPTION:Events from St. Anthony Mary Claret Roman Catholic Church
X-WR-CALDESC:Events from St. Anthony Mary Claret Roman Catholic Church
REFRESH-INTERVAL;VALUE=DURATION:PT1440M
X-PUBLISHED-TTL:PT1440M
BEGIN:VTIMEZONE
TZID:America/Chicago
BEGIN:DAYLIGHT
DTSTART:20230312T020000Z
TZOFFSETFROM:-0600
TZOFFSETTO:-0500
END:DAYLIGHT
BEGIN:STANDARD
DTSTART:20231105T020000Z
TZOFFSETFROM:-0500
TZOFFSETTO:-0600
END:STANDARD
BEGIN:DAYLIGHT
DTSTART:20240310T020000Z
TZOFFSETFROM:-0600
TZOFFSETTO:-0500
END:DAYLIGHT
END:VTIMEZONE
BEGIN:VTIMEZONE
TZID:UTC
BEGIN:STANDARD
DTSTART:20250726T012709Z
TZOFFSETFROM:+0000
TZOFFSETTO:+0000
END:STANDARD
END:VTIMEZONE
BEGIN:VEVENT
UID:3221-963
DTSTAMP:20260422T012709Z
SUMMARY:LOVESTRONG Marriage Ministry
LOCATION:N/A
ORGANIZER;CN=samcsa:MAILTO:valerie.s.garcia@icloud.com
DTSTART;TZID=America/Chicago;VALUE=DATE:20231020
DTEND;TZID=America/Chicago;VALUE=DATE:20231021
X-ALT-DESC;FMTTYPE=TEXT/HTML:All Retreat Couples must commit to attending t
 he entire 3-day weekend’s activities. The Lovestrong Retreat is not an o
 vernight retreat weekend. All couples participate in the program beginning
  on Friday evening\, Saturday morning – evening and Sunday morning – a
 fternoon\, but they return to their homes on both Friday and Saturday nigh
 t. We are limited&amp;hellip\;
CATEGORIES:Community events
URL;VALUE=URI:https://samcsa.com/mc-events/lovestrong-marriage-ministry-4/
METHOD:PUBLISH
END:VEVENT
END:VCALENDAR