BEGIN:VCALENDAR
VERSION:2.0
PRODID:spatie/icalendar-generator
DESCRIPTION:Events from St. Anthony Mary Claret Roman Catholic Church
X-WR-CALDESC:Events from St. Anthony Mary Claret Roman Catholic Church
REFRESH-INTERVAL;VALUE=DURATION:PT1440M
X-PUBLISHED-TTL:PT1440M
BEGIN:VTIMEZONE
TZID:America/Chicago
BEGIN:DAYLIGHT
DTSTART:20230312T020000Z
TZOFFSETFROM:-0600
TZOFFSETTO:-0500
END:DAYLIGHT
BEGIN:STANDARD
DTSTART:20231105T020000Z
TZOFFSETFROM:-0500
TZOFFSETTO:-0600
END:STANDARD
BEGIN:DAYLIGHT
DTSTART:20240310T020000Z
TZOFFSETFROM:-0600
TZOFFSETTO:-0500
END:DAYLIGHT
END:VTIMEZONE
BEGIN:VTIMEZONE
TZID:UTC
BEGIN:STANDARD
DTSTART:20250726T021048Z
TZOFFSETFROM:+0000
TZOFFSETTO:+0000
END:STANDARD
END:VTIMEZONE
BEGIN:VEVENT
UID:3226-968
DTSTAMP:20260422T021048Z
SUMMARY:Healthcare Professionals Mass
LOCATION:N/A
ORGANIZER;CN=samcsa:MAILTO:valerie.s.garcia@icloud.com
DTSTART;TZID=America/Chicago:20231018T183000
DTEND;TZID=America/Chicago:20231018T193000
X-ALT-DESC;FMTTYPE=TEXT/HTML:We welcome the presence of all who serve in th
 e healthcare field and care for the mental\, physical\, spiritual\, and em
 otional health of our community including doctors\, nurses\, medical assis
 tants\, lab technicians\, physical therapists\, mental health professional
 s\, chiropractors\, dietitians\, administrative staff\, chaplains\, and vo
 lunteers who provide spiritual care and the Eucharist to the sick. Mass&amp;he
 llip\;
CATEGORIES:Community events
URL;VALUE=URI:https://samcsa.com/mc-events/healthcare-professionals-mass/
METHOD:PUBLISH
END:VEVENT
END:VCALENDAR