BEGIN:VCALENDAR
VERSION:2.0
PRODID:spatie/icalendar-generator
DESCRIPTION:Events from St. Anthony Mary Claret Roman Catholic Church
X-WR-CALDESC:Events from St. Anthony Mary Claret Roman Catholic Church
REFRESH-INTERVAL;VALUE=DURATION:PT1440M
X-PUBLISHED-TTL:PT1440M
BEGIN:VTIMEZONE
TZID:America/Chicago
BEGIN:STANDARD
DTSTART:20231105T020000Z
TZOFFSETFROM:-0500
TZOFFSETTO:-0600
END:STANDARD
BEGIN:DAYLIGHT
DTSTART:20240310T020000Z
TZOFFSETFROM:-0600
TZOFFSETTO:-0500
END:DAYLIGHT
END:VTIMEZONE
BEGIN:VTIMEZONE
TZID:UTC
BEGIN:STANDARD
DTSTART:20250725T133423Z
TZOFFSETFROM:+0000
TZOFFSETTO:+0000
END:STANDARD
END:VTIMEZONE
BEGIN:VEVENT
UID:3422-499
DTSTAMP:20260421T133423Z
SUMMARY:Pantry restocking
LOCATION:Building A (Pantry &amp;amp\; Gabriel Project) 6150 Roft Road  San Ant
 onio Texas 78253
ORGANIZER;CN=samcsa:MAILTO:valerie.s.garcia@icloud.com
RRULE:FREQ=WEEKLY;UNTIL=20251231T000000Z
DTSTART;TZID=America/Chicago:20240409T080000
DTEND;TZID=America/Chicago:20240409T100000
X-ALT-DESC;FMTTYPE=TEXT/HTML:Restocking the food pantry and performing othe
 r office work is accomplished every Tuesday morning from 8:00 a.m. to 10
 :00 a.m.
CATEGORIES:Parish events
URL;VALUE=URI:https://samcsa.com/mc-events/pantry-restocking-2/?mc_id=3422
METHOD:PUBLISH
END:VEVENT
END:VCALENDAR