BEGIN:VCALENDAR
VERSION:2.0
PRODID:spatie/icalendar-generator
DESCRIPTION:Events from St. Anthony Mary Claret Roman Catholic Church
X-WR-CALDESC:Events from St. Anthony Mary Claret Roman Catholic Church
REFRESH-INTERVAL;VALUE=DURATION:PT1440M
X-PUBLISHED-TTL:PT1440M
BEGIN:VTIMEZONE
TZID:America/Chicago
BEGIN:STANDARD
DTSTART:20231105T020000Z
TZOFFSETFROM:-0500
TZOFFSETTO:-0600
END:STANDARD
BEGIN:DAYLIGHT
DTSTART:20240310T020000Z
TZOFFSETFROM:-0600
TZOFFSETTO:-0500
END:DAYLIGHT
END:VTIMEZONE
BEGIN:VTIMEZONE
TZID:UTC
BEGIN:STANDARD
DTSTART:20250726T224518Z
TZOFFSETFROM:+0000
TZOFFSETTO:+0000
END:STANDARD
END:VTIMEZONE
BEGIN:VEVENT
UID:3619-505
DTSTAMP:20260422T224518Z
SUMMARY:Line Dancing
LOCATION:Hubertus Hall 6150 Roft Road  San Antonio Texas 78253
ORGANIZER;CN=samcsa:MAILTO:valerie.s.garcia@icloud.com
RRULE:FREQ=WEEKLY;UNTIL=20251230T000000Z
DTSTART;TZID=America/Chicago:20240109T100000
DTEND;TZID=America/Chicago:20240109T110000
X-ALT-DESC;FMTTYPE=TEXT/HTML:Line Dancing is a fun way to maintain health a
 nd find new friends in a caring\, supportive group of people. All ages wel
 come. Meet Tuesdays at 10 a.m. in Hubertus Hall.
CATEGORIES:Parish events
URL;VALUE=URI:https://samcsa.com/mc-events/line-dancing-2/?mc_id=3619
METHOD:PUBLISH
END:VEVENT
END:VCALENDAR