BEGIN:VCALENDAR
VERSION:2.0
PRODID:spatie/icalendar-generator
DESCRIPTION:Events from St. Anthony Mary Claret Roman Catholic Church
X-WR-CALDESC:Events from St. Anthony Mary Claret Roman Catholic Church
REFRESH-INTERVAL;VALUE=DURATION:PT1440M
X-PUBLISHED-TTL:PT1440M
BEGIN:VTIMEZONE
TZID:America/Chicago
BEGIN:STANDARD
DTSTART:20231105T020000Z
TZOFFSETFROM:-0500
TZOFFSETTO:-0600
END:STANDARD
BEGIN:DAYLIGHT
DTSTART:20240310T020000Z
TZOFFSETFROM:-0600
TZOFFSETTO:-0500
END:DAYLIGHT
END:VTIMEZONE
BEGIN:VTIMEZONE
TZID:UTC
BEGIN:STANDARD
DTSTART:20250725T155233Z
TZOFFSETFROM:+0000
TZOFFSETTO:+0000
END:STANDARD
END:VTIMEZONE
BEGIN:VEVENT
UID:4125-500
DTSTAMP:20260421T155233Z
SUMMARY:Pantry
LOCATION:Building A (Pantry &amp;amp\; Gabriel Project) 6150 Roft Road  San Ant
 onio Texas 78253
ORGANIZER;CN=samcsa:MAILTO:valerie.s.garcia@icloud.com
RRULE:FREQ=WEEKLY;UNTIL=20251230T000000Z
DTSTART;TZID=America/Chicago:20240411T090000
DTEND;TZID=America/Chicago:20240411T120000
X-ALT-DESC;FMTTYPE=TEXT/HTML:The Pantry is open every Thursday from 9:00 a.
 m. to 12:00 p.m. for client services in Building A and is staffed by 
 one of four teams of Pantry members.
CATEGORIES:Parish events
URL;VALUE=URI:https://samcsa.com/mc-events/pantry-2/?mc_id=4125
METHOD:PUBLISH
END:VEVENT
END:VCALENDAR