BEGIN:VCALENDAR
VERSION:2.0
PRODID:spatie/icalendar-generator
DESCRIPTION:Events from St. Anthony Mary Claret Roman Catholic Church
X-WR-CALDESC:Events from St. Anthony Mary Claret Roman Catholic Church
REFRESH-INTERVAL;VALUE=DURATION:PT1440M
X-PUBLISHED-TTL:PT1440M
BEGIN:VTIMEZONE
TZID:America/Chicago
BEGIN:STANDARD
DTSTART:20231105T020000Z
TZOFFSETFROM:-0500
TZOFFSETTO:-0600
END:STANDARD
BEGIN:DAYLIGHT
DTSTART:20240310T020000Z
TZOFFSETFROM:-0600
TZOFFSETTO:-0500
END:DAYLIGHT
END:VTIMEZONE
BEGIN:VTIMEZONE
TZID:UTC
BEGIN:STANDARD
DTSTART:20250725T195444Z
TZOFFSETFROM:+0000
TZOFFSETTO:+0000
END:STANDARD
END:VTIMEZONE
BEGIN:VEVENT
UID:4879-1085
DTSTAMP:20260421T195444Z
SUMMARY:Men's ACTS Retreat
LOCATION:N/A
ORGANIZER;CN=samcsa:MAILTO:valerie.s.garcia@icloud.com
RRULE:FREQ=DAILY;UNTIL=20240407T000000Z
DTSTART;TZID=America/Chicago;VALUE=DATE:20240407
DTEND;TZID=America/Chicago;VALUE=DATE:20240408
X-ALT-DESC;FMTTYPE=TEXT/HTML:Men's ACTS Retreat flyer - click here
CATEGORIES:Parish events
URL;VALUE=URI:https://samcsa.com/mc-events/mens-acts-retreat-6/?mc_id=4879
METHOD:PUBLISH
END:VEVENT
END:VCALENDAR