BEGIN:VCALENDAR
VERSION:2.0
PRODID:spatie/icalendar-generator
DESCRIPTION:Events from St. Anthony Mary Claret Roman Catholic Church
X-WR-CALDESC:Events from St. Anthony Mary Claret Roman Catholic Church
REFRESH-INTERVAL;VALUE=DURATION:PT1440M
X-PUBLISHED-TTL:PT1440M
BEGIN:VTIMEZONE
TZID:America/Chicago
BEGIN:STANDARD
DTSTART:20231105T020000Z
TZOFFSETFROM:-0500
TZOFFSETTO:-0600
END:STANDARD
BEGIN:DAYLIGHT
DTSTART:20240310T020000Z
TZOFFSETFROM:-0600
TZOFFSETTO:-0500
END:DAYLIGHT
END:VTIMEZONE
BEGIN:VTIMEZONE
TZID:UTC
BEGIN:STANDARD
DTSTART:20250725T234607Z
TZOFFSETFROM:+0000
TZOFFSETTO:+0000
END:STANDARD
END:VTIMEZONE
BEGIN:VEVENT
UID:4896-1096
DTSTAMP:20260421T234607Z
SUMMARY:One-Day Eucharistic Pilgrimage for Young Adults
LOCATION:N/A
ORGANIZER;CN=samcsa:MAILTO:valerie.s.garcia@icloud.com
DTSTART;TZID=America/Chicago:20240406T070000
DTEND;TZID=America/Chicago:20240406T080000
X-ALT-DESC;FMTTYPE=TEXT/HTML:As a part of the National Eucharistic Pilgrim
 age\, the Archdiocese of San Antonio and El Camino de San Antonio Mission
 s invite Young Adults to live a transformative experience with the Blesse
 d Sacrament through a silent procession along the historic Mission trail. 
 Our pilgrimage will take us to three of the five destinations on the El Ca
 mino de San&amp;hellip\;
CATEGORIES:Community events
URL;VALUE=URI:https://samcsa.com/mc-events/one-day-eucharistic-pilgrimage-f
 or-young-adults/
METHOD:PUBLISH
END:VEVENT
END:VCALENDAR