BEGIN:VCALENDAR
VERSION:2.0
PRODID:spatie/icalendar-generator
DESCRIPTION:Events from St. Anthony Mary Claret Roman Catholic Church
X-WR-CALDESC:Events from St. Anthony Mary Claret Roman Catholic Church
REFRESH-INTERVAL;VALUE=DURATION:PT1440M
X-PUBLISHED-TTL:PT1440M
BEGIN:VTIMEZONE
TZID:America/Chicago
BEGIN:STANDARD
DTSTART:20231105T020000Z
TZOFFSETFROM:-0500
TZOFFSETTO:-0600
END:STANDARD
BEGIN:DAYLIGHT
DTSTART:20240310T020000Z
TZOFFSETFROM:-0600
TZOFFSETTO:-0500
END:DAYLIGHT
END:VTIMEZONE
BEGIN:VTIMEZONE
TZID:UTC
BEGIN:STANDARD
DTSTART:20250726T021607Z
TZOFFSETFROM:+0000
TZOFFSETTO:+0000
END:STANDARD
END:VTIMEZONE
BEGIN:VEVENT
UID:4958-1151
DTSTAMP:20260422T021607Z
SUMMARY:Exhibition: Who Is the Man of the Shroud?
LOCATION:N/A
ORGANIZER;CN=samcsa:MAILTO:valerie.s.garcia@icloud.com
RRULE:FREQ=WEEKLY;UNTIL=20241228T000000Z
DTSTART;TZID=America/Chicago:20240405T100000
DTEND;TZID=America/Chicago:20240405T110000
X-ALT-DESC;FMTTYPE=TEXT/HTML:“Who Is the Man of the Shroud?” permanent 
 exhibition is open most Fridays\, 10:00am-4:00pm.
CATEGORIES:Community events
URL;VALUE=URI:https://samcsa.com/mc-events/exhibition-who-is-the-man-of-the
 -shroud-8/?mc_id=4958
METHOD:PUBLISH
END:VEVENT
END:VCALENDAR