BEGIN:VCALENDAR
VERSION:2.0
PRODID:spatie/icalendar-generator
DESCRIPTION:Events from St. Anthony Mary Claret Roman Catholic Church
X-WR-CALDESC:Events from St. Anthony Mary Claret Roman Catholic Church
REFRESH-INTERVAL;VALUE=DURATION:PT1440M
X-PUBLISHED-TTL:PT1440M
BEGIN:VTIMEZONE
TZID:America/Chicago
BEGIN:DAYLIGHT
DTSTART:20220313T020000Z
TZOFFSETFROM:-0600
TZOFFSETTO:-0500
END:DAYLIGHT
BEGIN:STANDARD
DTSTART:20221106T020000Z
TZOFFSETFROM:-0500
TZOFFSETTO:-0600
END:STANDARD
BEGIN:DAYLIGHT
DTSTART:20230312T020000Z
TZOFFSETFROM:-0600
TZOFFSETTO:-0500
END:DAYLIGHT
END:VTIMEZONE
BEGIN:VTIMEZONE
TZID:UTC
BEGIN:STANDARD
DTSTART:20250726T110905Z
TZOFFSETFROM:+0000
TZOFFSETTO:+0000
END:STANDARD
END:VTIMEZONE
BEGIN:VEVENT
UID:554-53
DTSTAMP:20260422T110905Z
SUMMARY:Main NFP Series
LOCATION:Hubertus Hall 6150 Roft Road  San Antonio Texas 78253
ORGANIZER;CN=samcsa:MAILTO:valerie.s.garcia@icloud.com
DTSTART;TZID=America/Chicago:20221002T093000
DTEND;TZID=America/Chicago:20221002T103000
X-ALT-DESC;FMTTYPE=TEXT/HTML:Looking to learn Sympto-Thermal Method of Fert
 ility Awareness? With a &amp;gt\;98% effectiveness\, learn the scientific base
 d NFP method with the help of a Teaching Couple in whichever learning meth
 od works best for you. Includes: Teaching Couple mentorship Mobile app (fr
 ee for 6 months) Certificate Class (for Pre-Cana) Thermometer and student 
 guide Family Foundations membership Cost&amp;hellip\;
CATEGORIES:Parish events
URL;VALUE=URI:https://samcsa.com/mc-events/main-nfp-series-2/
METHOD:PUBLISH
END:VEVENT
END:VCALENDAR