BEGIN:VCALENDAR
VERSION:2.0
PRODID:spatie/icalendar-generator
DESCRIPTION:Events from St. Anthony Mary Claret Roman Catholic Church
X-WR-CALDESC:Events from St. Anthony Mary Claret Roman Catholic Church
REFRESH-INTERVAL;VALUE=DURATION:PT1440M
X-PUBLISHED-TTL:PT1440M
BEGIN:VTIMEZONE
TZID:America/Chicago
BEGIN:DAYLIGHT
DTSTART:20220313T020000Z
TZOFFSETFROM:-0600
TZOFFSETTO:-0500
END:DAYLIGHT
BEGIN:STANDARD
DTSTART:20221106T020000Z
TZOFFSETFROM:-0500
TZOFFSETTO:-0600
END:STANDARD
END:VTIMEZONE
BEGIN:VTIMEZONE
TZID:UTC
BEGIN:STANDARD
DTSTART:20250726T051443Z
TZOFFSETFROM:+0000
TZOFFSETTO:+0000
END:STANDARD
END:VTIMEZONE
BEGIN:VEVENT
UID:572-57
DTSTAMP:20260422T051443Z
SUMMARY:Our Lady of Fatima Rosary &amp;amp\; Prayers
LOCATION:Planned Parenthood Abortion facility 2140 Babcock Road  San Antoni
 o Texas 78229
ORGANIZER;CN=samcsa:MAILTO:valerie.s.garcia@icloud.com
RRULE:FREQ=MONTHLY;BYDAY=2TU;UNTIL=20221231T000000Z
DTSTART;TZID=America/Chicago:20220809T120000
DTEND;TZID=America/Chicago:20220809T130000
X-ALT-DESC;FMTTYPE=TEXT/HTML:
CATEGORIES:Community events
URL;VALUE=URI:https://samcsa.com/mc-events/our-lady-of-fatima-rosary-prayer
 s/?mc_id=572
METHOD:PUBLISH
END:VEVENT
END:VCALENDAR