BEGIN:VCALENDAR
VERSION:2.0
PRODID:spatie/icalendar-generator
DESCRIPTION:Events from St. Anthony Mary Claret Roman Catholic Church
X-WR-CALDESC:Events from St. Anthony Mary Claret Roman Catholic Church
REFRESH-INTERVAL;VALUE=DURATION:PT1440M
X-PUBLISHED-TTL:PT1440M
BEGIN:VTIMEZONE
TZID:America/Chicago
BEGIN:DAYLIGHT
DTSTART:20230312T020000Z
TZOFFSETFROM:-0600
TZOFFSETTO:-0500
END:DAYLIGHT
BEGIN:STANDARD
DTSTART:20231105T020000Z
TZOFFSETFROM:-0500
TZOFFSETTO:-0600
END:STANDARD
BEGIN:DAYLIGHT
DTSTART:20240310T020000Z
TZOFFSETFROM:-0600
TZOFFSETTO:-0500
END:DAYLIGHT
END:VTIMEZONE
BEGIN:VTIMEZONE
TZID:UTC
BEGIN:STANDARD
DTSTART:20250725T192541Z
TZOFFSETFROM:+0000
TZOFFSETTO:+0000
END:STANDARD
END:VTIMEZONE
BEGIN:VEVENT
UID:5767-1006
DTSTAMP:20260421T192541Z
SUMMARY:Public Rosary to End Abortion
LOCATION:Planned Parenthood Abortion facility 2140 Babcock Road  San Antoni
 o Texas 78229
ORGANIZER;CN=samcsa:MAILTO:valerie.s.garcia@icloud.com
RRULE:FREQ=MONTHLY;BYDAY=1FR;UNTIL=20260715T000000Z
DTSTART;TZID=America/Chicago:20231103T120000
DTEND;TZID=America/Chicago:20231103T130000
X-ALT-DESC;FMTTYPE=TEXT/HTML:SPANISH Rosary: 1st Friday of every month at
  12 noon. Location: Planned Parenthood (2140 Babcock Rd.)
CATEGORIES:Community events
URL;VALUE=URI:https://samcsa.com/mc-events/public-rosary-to-end-abortion/?m
 c_id=5767
METHOD:PUBLISH
END:VEVENT
END:VCALENDAR