BEGIN:VCALENDAR
VERSION:2.0
PRODID:spatie/icalendar-generator
DESCRIPTION:Events from St. Anthony Mary Claret Roman Catholic Church
X-WR-CALDESC:Events from St. Anthony Mary Claret Roman Catholic Church
REFRESH-INTERVAL;VALUE=DURATION:PT1440M
X-PUBLISHED-TTL:PT1440M
BEGIN:VTIMEZONE
TZID:America/Chicago
BEGIN:STANDARD
DTSTART:20211107T020000Z
TZOFFSETFROM:-0500
TZOFFSETTO:-0600
END:STANDARD
BEGIN:DAYLIGHT
DTSTART:20220313T020000Z
TZOFFSETFROM:-0600
TZOFFSETTO:-0500
END:DAYLIGHT
BEGIN:STANDARD
DTSTART:20221106T020000Z
TZOFFSETFROM:-0500
TZOFFSETTO:-0600
END:STANDARD
END:VTIMEZONE
BEGIN:VTIMEZONE
TZID:UTC
BEGIN:STANDARD
DTSTART:20250726T110727Z
TZOFFSETFROM:+0000
TZOFFSETTO:+0000
END:STANDARD
END:VTIMEZONE
BEGIN:VEVENT
UID:577-58
DTSTAMP:20260422T110727Z
SUMMARY:Young Adults Rosary
LOCATION:Alamo Women\\'s Reproductive Services Abortion facility 7402 John 
 Smith Rd.  San Antonio Texas 78229
ORGANIZER;CN=samcsa:MAILTO:valerie.s.garcia@icloud.com
RRULE:FREQ=MONTHLY;BYDAY=1SA;UNTIL=20221231T000000Z
DTSTART;TZID=America/Chicago:20220604T100000
DTEND;TZID=America/Chicago:20220604T110000
X-ALT-DESC;FMTTYPE=TEXT/HTML:
CATEGORIES:Community events
URL;VALUE=URI:https://samcsa.com/mc-events/young-adults-rosary/?mc_id=577
METHOD:PUBLISH
END:VEVENT
END:VCALENDAR