BEGIN:VCALENDAR
VERSION:2.0
PRODID:spatie/icalendar-generator
DESCRIPTION:Events from St. Anthony Mary Claret Roman Catholic Church
X-WR-CALDESC:Events from St. Anthony Mary Claret Roman Catholic Church
REFRESH-INTERVAL;VALUE=DURATION:PT1440M
X-PUBLISHED-TTL:PT1440M
BEGIN:VTIMEZONE
TZID:America/Chicago
BEGIN:STANDARD
DTSTART:20251102T020000Z
TZOFFSETFROM:-0500
TZOFFSETTO:-0600
END:STANDARD
BEGIN:DAYLIGHT
DTSTART:20260308T020000Z
TZOFFSETFROM:-0600
TZOFFSETTO:-0500
END:DAYLIGHT
END:VTIMEZONE
BEGIN:VTIMEZONE
TZID:UTC
BEGIN:STANDARD
DTSTART:20250727T205051Z
TZOFFSETFROM:+0000
TZOFFSETTO:+0000
END:STANDARD
END:VTIMEZONE
BEGIN:VEVENT
UID:6308-1895
DTSTAMP:20260423T205051Z
SUMMARY:40 Days for Life
LOCATION:Planned Parenthood Abortion facility 2140 Babcock Road  San Antoni
 o Texas 78229
ORGANIZER;CN=samcsa:MAILTO:valerie.s.garcia@icloud.com
DTSTART;TZID=America/Chicago;VALUE=DATE:20260218
DTEND;TZID=America/Chicago;VALUE=DATE:20260330
X-ALT-DESC;FMTTYPE=TEXT/HTML:Click for details: 40 Days for Life Flyer Lead
 er Contact Info Cindi Serna\, SACFL\, Ph: (210) 410-9424\, email: Cindi@
 sacfl.org &amp;nbsp\;
CATEGORIES:Community events
URL;VALUE=URI:https://samcsa.com/mc-events/40-days-for-life-7/
METHOD:PUBLISH
END:VEVENT
END:VCALENDAR