BEGIN:VCALENDAR
VERSION:2.0
PRODID:spatie/icalendar-generator
DESCRIPTION:Events from St. Anthony Mary Claret Roman Catholic Church
X-WR-CALDESC:Events from St. Anthony Mary Claret Roman Catholic Church
REFRESH-INTERVAL;VALUE=DURATION:PT1440M
X-PUBLISHED-TTL:PT1440M
BEGIN:VTIMEZONE
TZID:America/Chicago
BEGIN:STANDARD
DTSTART:20211107T020000Z
TZOFFSETFROM:-0500
TZOFFSETTO:-0600
END:STANDARD
BEGIN:DAYLIGHT
DTSTART:20220313T020000Z
TZOFFSETFROM:-0600
TZOFFSETTO:-0500
END:DAYLIGHT
BEGIN:STANDARD
DTSTART:20221106T020000Z
TZOFFSETFROM:-0500
TZOFFSETTO:-0600
END:STANDARD
END:VTIMEZONE
BEGIN:VTIMEZONE
TZID:UTC
BEGIN:STANDARD
DTSTART:20250726T083431Z
TZOFFSETFROM:+0000
TZOFFSETTO:+0000
END:STANDARD
END:VTIMEZONE
BEGIN:VEVENT
UID:639-79
DTSTAMP:20260422T083431Z
SUMMARY:Bishop Joseph Strickland Presentation\, \"Engaging in Battle: Empow
 ering the Laity in 2022\"
LOCATION:
ORGANIZER;CN=samcsa:MAILTO:valerie.s.garcia@icloud.com
DTSTART;TZID=America/Chicago:20220721T183000
DTEND;TZID=America/Chicago:20220721T193000
X-ALT-DESC;FMTTYPE=TEXT/HTML:Join us for an evening of food\, fellowship\, 
 and a presentation by special guest\, Bishop Joseph Strickland\, all in s
 upport of Catholic Radio!
CATEGORIES:Community events
URL;VALUE=URI:https://samcsa.com/mc-events/bishop-joseph-strickland-present
 ation-engaging-in-battle-empowering-the-laity-in-2022/
METHOD:PUBLISH
END:VEVENT
END:VCALENDAR