BEGIN:VCALENDAR
VERSION:2.0
PRODID:spatie/icalendar-generator
DESCRIPTION:Events from St. Anthony Mary Claret Roman Catholic Church
X-WR-CALDESC:Events from St. Anthony Mary Claret Roman Catholic Church
REFRESH-INTERVAL;VALUE=DURATION:PT1440M
X-PUBLISHED-TTL:PT1440M
BEGIN:VTIMEZONE
TZID:America/Chicago
BEGIN:STANDARD
DTSTART:20211107T020000Z
TZOFFSETFROM:-0500
TZOFFSETTO:-0600
END:STANDARD
BEGIN:DAYLIGHT
DTSTART:20220313T020000Z
TZOFFSETFROM:-0600
TZOFFSETTO:-0500
END:DAYLIGHT
BEGIN:STANDARD
DTSTART:20221106T020000Z
TZOFFSETFROM:-0500
TZOFFSETTO:-0600
END:STANDARD
END:VTIMEZONE
BEGIN:VTIMEZONE
TZID:UTC
BEGIN:STANDARD
DTSTART:20250726T094509Z
TZOFFSETFROM:+0000
TZOFFSETTO:+0000
END:STANDARD
END:VTIMEZONE
BEGIN:VEVENT
UID:640-80
DTSTAMP:20260422T094509Z
SUMMARY:Holy League
LOCATION:
ORGANIZER;CN=samcsa:MAILTO:valerie.s.garcia@icloud.com
RRULE:FREQ=MONTHLY;BYDAY=2WE;UNTIL=20221231T000000Z
DTSTART;TZID=America/Chicago:20220608T053000
DTEND;TZID=America/Chicago:20220608T063000
X-ALT-DESC;FMTTYPE=TEXT/HTML:The \"Holy League\" is a monthly Holy Hour for
  men across the Metro-Houston area. The men gather at 5:30 am on the seco
 nd Wednesday of every month at Annunciation Catholic Church (1618 Texas A
 ve\, Houston\, TX 77003).  Parking is either on the street (free until 7a
 m)\, or in the LAMB lot on the corner of Capitol and&amp;hellip\;
CATEGORIES:Community events
URL;VALUE=URI:https://samcsa.com/mc-events/holy-league/?mc_id=640
METHOD:PUBLISH
END:VEVENT
END:VCALENDAR