BEGIN:VCALENDAR
VERSION:2.0
PRODID:spatie/icalendar-generator
DESCRIPTION:Events from St. Anthony Mary Claret Roman Catholic Church
X-WR-CALDESC:Events from St. Anthony Mary Claret Roman Catholic Church
REFRESH-INTERVAL;VALUE=DURATION:PT1440M
X-PUBLISHED-TTL:PT1440M
BEGIN:VTIMEZONE
TZID:America/Chicago
BEGIN:STANDARD
DTSTART:20211107T020000Z
TZOFFSETFROM:-0500
TZOFFSETTO:-0600
END:STANDARD
BEGIN:DAYLIGHT
DTSTART:20220313T020000Z
TZOFFSETFROM:-0600
TZOFFSETTO:-0500
END:DAYLIGHT
BEGIN:STANDARD
DTSTART:20221106T020000Z
TZOFFSETFROM:-0500
TZOFFSETTO:-0600
END:STANDARD
END:VTIMEZONE
BEGIN:VTIMEZONE
TZID:UTC
BEGIN:STANDARD
DTSTART:20250726T071341Z
TZOFFSETFROM:+0000
TZOFFSETTO:+0000
END:STANDARD
END:VTIMEZONE
BEGIN:VEVENT
UID:650-84
DTSTAMP:20260422T071341Z
SUMMARY:SPIRITUAL WARFARE: What Every Catholic Family Should Know!
LOCATION:
ORGANIZER;CN=samcsa:MAILTO:valerie.s.garcia@icloud.com
DTSTART;TZID=America/Chicago;VALUE=DATE:20220624
DTEND;TZID=America/Chicago;VALUE=DATE:20220626
X-ALT-DESC;FMTTYPE=TEXT/HTML:St. Mark the Evangelist Catholic Church 1201 A
 lma Dr.\, Plano\, Texas  75075 For tickets\, schedule and more informatio
 n: 877.218.7884
CATEGORIES:Community events
URL;VALUE=URI:https://samcsa.com/mc-events/spiritual-warfare-what-every-cat
 holic-family-should-know/
METHOD:PUBLISH
END:VEVENT
END:VCALENDAR