BEGIN:VCALENDAR
VERSION:2.0
PRODID:spatie/icalendar-generator
DESCRIPTION:Events from St. Anthony Mary Claret Roman Catholic Church
X-WR-CALDESC:Events from St. Anthony Mary Claret Roman Catholic Church
REFRESH-INTERVAL;VALUE=DURATION:PT1440M
X-PUBLISHED-TTL:PT1440M
BEGIN:VTIMEZONE
TZID:America/Chicago
BEGIN:STANDARD
DTSTART:20231105T020000Z
TZOFFSETFROM:-0500
TZOFFSETTO:-0600
END:STANDARD
BEGIN:DAYLIGHT
DTSTART:20240310T020000Z
TZOFFSETFROM:-0600
TZOFFSETTO:-0500
END:DAYLIGHT
END:VTIMEZONE
BEGIN:VTIMEZONE
TZID:UTC
BEGIN:STANDARD
DTSTART:20250725T213710Z
TZOFFSETFROM:+0000
TZOFFSETTO:+0000
END:STANDARD
END:VTIMEZONE
BEGIN:VEVENT
UID:6673-1156
DTSTAMP:20260421T213710Z
SUMMARY:Our Lady of the Atonement Rosary &amp;amp\; Prayers
LOCATION:N/A
ORGANIZER;CN=samcsa:MAILTO:valerie.s.garcia@icloud.com
RRULE:FREQ=MONTHLY;BYDAY=1SA;UNTIL=20271225T000000Z
DTSTART;TZID=America/Chicago:20240406T084500
DTEND;TZID=America/Chicago:20240406T094500
X-ALT-DESC;FMTTYPE=TEXT/HTML:OUR LADY OF THE ATONEMENT ROSARY &amp;amp\; PRAYE
 RS  1st Saturday of every month at 8:45 a.m.
CATEGORIES:Community events
URL;VALUE=URI:https://samcsa.com/mc-events/our-lady-of-the-atonement-rosary
 -prayers/?mc_id=6673
METHOD:PUBLISH
END:VEVENT
END:VCALENDAR