BEGIN:VCALENDAR
VERSION:2.0
PRODID:spatie/icalendar-generator
DESCRIPTION:Events from St. Anthony Mary Claret Roman Catholic Church
X-WR-CALDESC:Events from St. Anthony Mary Claret Roman Catholic Church
REFRESH-INTERVAL;VALUE=DURATION:PT1440M
X-PUBLISHED-TTL:PT1440M
BEGIN:VTIMEZONE
TZID:America/Chicago
BEGIN:DAYLIGHT
DTSTART:20220313T020000Z
TZOFFSETFROM:-0600
TZOFFSETTO:-0500
END:DAYLIGHT
BEGIN:STANDARD
DTSTART:20221106T020000Z
TZOFFSETFROM:-0500
TZOFFSETTO:-0600
END:STANDARD
END:VTIMEZONE
BEGIN:VTIMEZONE
TZID:UTC
BEGIN:STANDARD
DTSTART:20250726T015934Z
TZOFFSETFROM:+0000
TZOFFSETTO:+0000
END:STANDARD
END:VTIMEZONE
BEGIN:VEVENT
UID:709-97
DTSTAMP:20260422T015934Z
SUMMARY:American Heritage Girls meeting
LOCATION:Building B (Religious Education Building) 6150 Roft Road  San Anto
 nio Texas 78253
ORGANIZER;CN=samcsa:MAILTO:valerie.s.garcia@icloud.com
DTSTART;TZID=America/Chicago:20220906T183000
DTEND;TZID=America/Chicago:20220906T193000
X-ALT-DESC;FMTTYPE=TEXT/HTML:
CATEGORIES:Parish events
URL;VALUE=URI:https://samcsa.com/mc-events/american-heritage-girls-meeting-
 2/
METHOD:PUBLISH
END:VEVENT
END:VCALENDAR