BEGIN:VCALENDAR
VERSION:2.0
PRODID:spatie/icalendar-generator
DESCRIPTION:Events from St. Anthony Mary Claret Roman Catholic Church
X-WR-CALDESC:Events from St. Anthony Mary Claret Roman Catholic Church
REFRESH-INTERVAL;VALUE=DURATION:PT1440M
X-PUBLISHED-TTL:PT1440M
BEGIN:VTIMEZONE
TZID:America/Chicago
BEGIN:DAYLIGHT
DTSTART:20220313T020000Z
TZOFFSETFROM:-0600
TZOFFSETTO:-0500
END:DAYLIGHT
BEGIN:STANDARD
DTSTART:20221106T020000Z
TZOFFSETFROM:-0500
TZOFFSETTO:-0600
END:STANDARD
END:VTIMEZONE
BEGIN:VTIMEZONE
TZID:UTC
BEGIN:STANDARD
DTSTART:20250726T074322Z
TZOFFSETFROM:+0000
TZOFFSETTO:+0000
END:STANDARD
END:VTIMEZONE
BEGIN:VEVENT
UID:863-214
DTSTAMP:20260422T074322Z
SUMMARY:CYO Sports Registration
LOCATION:
ORGANIZER;CN=samcsa:MAILTO:valerie.s.garcia@icloud.com
RRULE:FREQ=DAILY;UNTIL=20220821T000000Z
DTSTART;TZID=America/Chicago;VALUE=DATE:20220814
DTEND;TZID=America/Chicago;VALUE=DATE:20220815
X-ALT-DESC;FMTTYPE=TEXT/HTML:Registration link - click here SAC boundary - 
 click here
CATEGORIES:Parish events
URL;VALUE=URI:https://samcsa.com/mc-events/cyo-sports-registration/?mc_id=8
 63
METHOD:PUBLISH
END:VEVENT
END:VCALENDAR