BEGIN:VCALENDAR
VERSION:2.0
PRODID:spatie/icalendar-generator
DESCRIPTION:Events from St. Anthony Mary Claret Roman Catholic Church
X-WR-CALDESC:Events from St. Anthony Mary Claret Roman Catholic Church
REFRESH-INTERVAL;VALUE=DURATION:PT1440M
X-PUBLISHED-TTL:PT1440M
BEGIN:VTIMEZONE
TZID:America/Chicago
BEGIN:DAYLIGHT
DTSTART:20220313T020000Z
TZOFFSETFROM:-0600
TZOFFSETTO:-0500
END:DAYLIGHT
BEGIN:STANDARD
DTSTART:20221106T020000Z
TZOFFSETFROM:-0500
TZOFFSETTO:-0600
END:STANDARD
END:VTIMEZONE
BEGIN:VTIMEZONE
TZID:UTC
BEGIN:STANDARD
DTSTART:20250726T094350Z
TZOFFSETFROM:+0000
TZOFFSETTO:+0000
END:STANDARD
END:VTIMEZONE
BEGIN:VEVENT
UID:869-216
DTSTAMP:20260422T094350Z
SUMMARY:Labor Day Weekend Rummage Sale
LOCATION:
ORGANIZER;CN=samcsa:MAILTO:valerie.s.garcia@icloud.com
RRULE:FREQ=DAILY;UNTIL=20220904T000000Z
DTSTART;TZID=America/Chicago:20220902T180000
DTEND;TZID=America/Chicago:20220902T190000
X-ALT-DESC;FMTTYPE=TEXT/HTML:Come support Sanctus Ranch and pick up some gr
 eat stuff! We will be hosting a rummage sale Labor Day Weekend. The sale w
 ill be inside our air conditioned buildings and all items will be availabl
 e for donations to support our mission. Doors will be open: Friday\, Septe
 mber 2nd between 3pm &amp;amp\; 7pm Saturday\, September 3rd&amp;hellip\;
CATEGORIES:Community events
URL;VALUE=URI:https://samcsa.com/mc-events/labor-day-weekend-rummage-sale/?
 mc_id=869
METHOD:PUBLISH
END:VEVENT
END:VCALENDAR