BEGIN:VCALENDAR
VERSION:2.0
PRODID:spatie/icalendar-generator
DESCRIPTION:Events from St. Anthony Mary Claret Roman Catholic Church
X-WR-CALDESC:Events from St. Anthony Mary Claret Roman Catholic Church
REFRESH-INTERVAL;VALUE=DURATION:PT1440M
X-PUBLISHED-TTL:PT1440M
BEGIN:VTIMEZONE
TZID:America/Chicago
BEGIN:DAYLIGHT
DTSTART:20220313T020000Z
TZOFFSETFROM:-0600
TZOFFSETTO:-0500
END:DAYLIGHT
BEGIN:STANDARD
DTSTART:20221106T020000Z
TZOFFSETFROM:-0500
TZOFFSETTO:-0600
END:STANDARD
BEGIN:DAYLIGHT
DTSTART:20230312T020000Z
TZOFFSETFROM:-0600
TZOFFSETTO:-0500
END:DAYLIGHT
END:VTIMEZONE
BEGIN:VTIMEZONE
TZID:UTC
BEGIN:STANDARD
DTSTART:20250726T074353Z
TZOFFSETFROM:+0000
TZOFFSETTO:+0000
END:STANDARD
END:VTIMEZONE
BEGIN:VEVENT
UID:871-217
DTSTAMP:20260422T074353Z
SUMMARY:Spirit Tasting Fundraiser
LOCATION:
ORGANIZER;CN=samcsa:MAILTO:valerie.s.garcia@icloud.com
DTSTART;TZID=America/Chicago:20220910T183000
DTEND;TZID=America/Chicago:20220910T213000
X-ALT-DESC;FMTTYPE=TEXT/HTML:Enjoy Tastings from Chapline Distillery\, Sess
 i Wine Company &amp;amp\; Lalo Tequila The tastings will be paired with Heavy 
 Appetizers and all are welcome to enjoy a cigar or pipe outside on the gro
 unds of Sanctus Ranch. There will also be a silent auction and donation op
 portunities for bottles to be enjoyed. This event is a&amp;hellip\;
CATEGORIES:Community events
URL;VALUE=URI:https://samcsa.com/mc-events/spirit-tasting-fundraiser/
METHOD:PUBLISH
END:VEVENT
END:VCALENDAR