BEGIN:VCALENDAR
VERSION:2.0
PRODID:spatie/icalendar-generator
DESCRIPTION:Events from St. Anthony Mary Claret Roman Catholic Church
X-WR-CALDESC:Events from St. Anthony Mary Claret Roman Catholic Church
REFRESH-INTERVAL;VALUE=DURATION:PT1440M
X-PUBLISHED-TTL:PT1440M
BEGIN:VTIMEZONE
TZID:America/Chicago
BEGIN:DAYLIGHT
DTSTART:20220313T020000Z
TZOFFSETFROM:-0600
TZOFFSETTO:-0500
END:DAYLIGHT
BEGIN:STANDARD
DTSTART:20221106T020000Z
TZOFFSETFROM:-0500
TZOFFSETTO:-0600
END:STANDARD
END:VTIMEZONE
BEGIN:VTIMEZONE
TZID:UTC
BEGIN:STANDARD
DTSTART:20250726T112246Z
TZOFFSETFROM:+0000
TZOFFSETTO:+0000
END:STANDARD
END:VTIMEZONE
BEGIN:VEVENT
UID:890-230
DTSTAMP:20260422T112246Z
SUMMARY:Children's Choir Registration
LOCATION:Hubertus Hall 6150 Roft Road  San Antonio Texas 78253
ORGANIZER;CN=samcsa:MAILTO:valerie.s.garcia@icloud.com
DTSTART;TZID=America/Chicago;VALUE=DATE:20220903
DTEND;TZID=America/Chicago;VALUE=DATE:20220904
X-ALT-DESC;FMTTYPE=TEXT/HTML:Registration after all Masses on 9/3 and 9/4. 
 Rehearsals will begin on 9/8\, from 5:30 p.m. - 6:30 p.m. in the Sanctuary
 . For more information\, please contact Paul Rauschhuber\, Music Director\
 , at 210-865-4717.
CATEGORIES:Parish events
URL;VALUE=URI:https://samcsa.com/mc-events/childrens-choir-registration/
METHOD:PUBLISH
END:VEVENT
END:VCALENDAR