BEGIN:VCALENDAR
VERSION:2.0
PRODID:spatie/icalendar-generator
DESCRIPTION:Events from St. Anthony Mary Claret Roman Catholic Church
X-WR-CALDESC:Events from St. Anthony Mary Claret Roman Catholic Church
REFRESH-INTERVAL;VALUE=DURATION:PT1440M
X-PUBLISHED-TTL:PT1440M
BEGIN:VTIMEZONE
TZID:America/Chicago
BEGIN:DAYLIGHT
DTSTART:20220313T020000Z
TZOFFSETFROM:-0600
TZOFFSETTO:-0500
END:DAYLIGHT
BEGIN:STANDARD
DTSTART:20221106T020000Z
TZOFFSETFROM:-0500
TZOFFSETTO:-0600
END:STANDARD
BEGIN:DAYLIGHT
DTSTART:20230312T020000Z
TZOFFSETFROM:-0600
TZOFFSETTO:-0500
END:DAYLIGHT
END:VTIMEZONE
BEGIN:VTIMEZONE
TZID:UTC
BEGIN:STANDARD
DTSTART:20250726T152544Z
TZOFFSETFROM:+0000
TZOFFSETTO:+0000
END:STANDARD
END:VTIMEZONE
BEGIN:VEVENT
UID:1027-241
DTSTAMP:20260422T152544Z
SUMMARY:40 Days for Life Fall 2022 Opening Rally
LOCATION:N/A
ORGANIZER;CN=samcsa:MAILTO:valerie.s.garcia@icloud.com
DTSTART;TZID=America/Chicago:20220925T150000
DTEND;TZID=America/Chicago:20220925T160000
X-ALT-DESC;FMTTYPE=TEXT/HTML:Great indoor kick-off event! Opening Prayer/Re
 flection: Pastor Tony Hartman. Main Speaker: Myriam S. Barragan\, MD. \"A 
 door that opens from dark to light. Testimony of Life.\" Closing Prayer: A
 uxiliary Bishop Gary Janak. Address: SMAC (St. Matthew Athletic Center) 1
 0703 Wurzbach Rd San Antono \, TX 78230 Time: 3:00 PM
CATEGORIES:Community events
URL;VALUE=URI:https://samcsa.com/mc-events/40-days-for-life-fall-2022-openi
 ng-rally/
METHOD:PUBLISH
END:VEVENT
END:VCALENDAR