BEGIN:VCALENDAR
VERSION:2.0
PRODID:spatie/icalendar-generator
DESCRIPTION:Events from St. Anthony Mary Claret Roman Catholic Church
X-WR-CALDESC:Events from St. Anthony Mary Claret Roman Catholic Church
REFRESH-INTERVAL;VALUE=DURATION:PT1440M
X-PUBLISHED-TTL:PT1440M
BEGIN:VTIMEZONE
TZID:America/Chicago
BEGIN:DAYLIGHT
DTSTART:20220313T020000Z
TZOFFSETFROM:-0600
TZOFFSETTO:-0500
END:DAYLIGHT
BEGIN:STANDARD
DTSTART:20221106T020000Z
TZOFFSETFROM:-0500
TZOFFSETTO:-0600
END:STANDARD
BEGIN:DAYLIGHT
DTSTART:20230312T020000Z
TZOFFSETFROM:-0600
TZOFFSETTO:-0500
END:DAYLIGHT
END:VTIMEZONE
BEGIN:VTIMEZONE
TZID:UTC
BEGIN:STANDARD
DTSTART:20250726T165148Z
TZOFFSETFROM:+0000
TZOFFSETTO:+0000
END:STANDARD
END:VTIMEZONE
BEGIN:VEVENT
UID:1069-243
DTSTAMP:20260422T165148Z
SUMMARY:Pastoral Care Ministry Training
LOCATION:Hubertus Hall 6150 Roft Road  San Antonio Texas 78253
ORGANIZER;CN=samcsa:MAILTO:valerie.s.garcia@icloud.com
DTSTART;TZID=America/Chicago:20220914T190000
DTEND;TZID=America/Chicago:20220914T200000
X-ALT-DESC;FMTTYPE=TEXT/HTML:We compassionately minister to homebound or ho
 spitalized parishioners through visits or by taking them the Eucharist. Pa
 storal Care Ministry Training Wednesday\, Sept. 14\, 7 PM Msgr. Hubertus H
 all For info\, contact Deacon Tom Elms at 630-715-3171 or tncelms@comcast.
 net.
CATEGORIES:Parish events
URL;VALUE=URI:https://samcsa.com/mc-events/pastoral-care-ministry-training/
METHOD:PUBLISH
END:VEVENT
END:VCALENDAR