BEGIN:VCALENDAR
VERSION:2.0
PRODID:spatie/icalendar-generator
DESCRIPTION:Events from St. Anthony Mary Claret Roman Catholic Church
X-WR-CALDESC:Events from St. Anthony Mary Claret Roman Catholic Church
REFRESH-INTERVAL;VALUE=DURATION:PT1440M
X-PUBLISHED-TTL:PT1440M
BEGIN:VTIMEZONE
TZID:America/Chicago
BEGIN:DAYLIGHT
DTSTART:20220313T020000Z
TZOFFSETFROM:-0600
TZOFFSETTO:-0500
END:DAYLIGHT
BEGIN:STANDARD
DTSTART:20221106T020000Z
TZOFFSETFROM:-0500
TZOFFSETTO:-0600
END:STANDARD
BEGIN:DAYLIGHT
DTSTART:20230312T020000Z
TZOFFSETFROM:-0600
TZOFFSETTO:-0500
END:DAYLIGHT
END:VTIMEZONE
BEGIN:VTIMEZONE
TZID:UTC
BEGIN:STANDARD
DTSTART:20250726T110511Z
TZOFFSETFROM:+0000
TZOFFSETTO:+0000
END:STANDARD
END:VTIMEZONE
BEGIN:VEVENT
UID:1117-273
DTSTAMP:20260422T110511Z
SUMMARY:Life Chain SA
LOCATION:N/A
ORGANIZER;CN=samcsa:MAILTO:valerie.s.garcia@icloud.com
DTSTART;TZID=America/Chicago:20221002T123000
DTEND;TZID=America/Chicago:20221002T133000
X-ALT-DESC;FMTTYPE=TEXT/HTML:Sunday\, Oct. 2\, 2022 12:30-3:30 p.m.   Join
  the 35th National LIFE CHAIN! 11:30 am Pick up Signs in old Sears parkin
 g lot 12:00 pm Live Band 12:30-1:00 pm: March For Life 1:15-1:45 pm: Open
 ing Prayer Ceremonies San Pedro Avenue Grassy Knoll (Just inside Loop 410 
 on San Pedro Ave. – human chain will extend all the&amp;hellip\;
CATEGORIES:Community events
URL;VALUE=URI:https://samcsa.com/mc-events/life-chain-sa/
METHOD:PUBLISH
END:VEVENT
END:VCALENDAR