BEGIN:VCALENDAR
VERSION:2.0
PRODID:spatie/icalendar-generator
DESCRIPTION:Events from St. Anthony Mary Claret Roman Catholic Church
X-WR-CALDESC:Events from St. Anthony Mary Claret Roman Catholic Church
REFRESH-INTERVAL;VALUE=DURATION:PT1440M
X-PUBLISHED-TTL:PT1440M
BEGIN:VTIMEZONE
TZID:America/Chicago
BEGIN:STANDARD
DTSTART:20221106T020000Z
TZOFFSETFROM:-0500
TZOFFSETTO:-0600
END:STANDARD
BEGIN:DAYLIGHT
DTSTART:20230312T020000Z
TZOFFSETFROM:-0600
TZOFFSETTO:-0500
END:DAYLIGHT
END:VTIMEZONE
BEGIN:VTIMEZONE
TZID:UTC
BEGIN:STANDARD
DTSTART:20250726T145654Z
TZOFFSETFROM:+0000
TZOFFSETTO:+0000
END:STANDARD
END:VTIMEZONE
BEGIN:VEVENT
UID:1304-304
DTSTAMP:20260422T145654Z
SUMMARY:Texas Rally for Life
LOCATION:
ORGANIZER;CN=samcsa:MAILTO:valerie.s.garcia@icloud.com
DTSTART;TZID=America/Chicago:20230128T130000
DTEND;TZID=America/Chicago:20230128T140000
X-ALT-DESC;FMTTYPE=TEXT/HTML:Join thousands of Texans from across the state
  at the 2023 Texas Rally for Life. Show our elected officials\, the media\
 , and the Supreme Court that Texas is pro-life!
CATEGORIES:Community events
URL;VALUE=URI:https://samcsa.com/mc-events/texas-rally-for-life/
METHOD:PUBLISH
END:VEVENT
END:VCALENDAR