BEGIN:VCALENDAR
VERSION:2.0
PRODID:spatie/icalendar-generator
DESCRIPTION:Events from St. Anthony Mary Claret Roman Catholic Church
X-WR-CALDESC:Events from St. Anthony Mary Claret Roman Catholic Church
REFRESH-INTERVAL;VALUE=DURATION:PT1440M
X-PUBLISHED-TTL:PT1440M
BEGIN:VTIMEZONE
TZID:America/Chicago
BEGIN:DAYLIGHT
DTSTART:20220313T020000Z
TZOFFSETFROM:-0600
TZOFFSETTO:-0500
END:DAYLIGHT
BEGIN:STANDARD
DTSTART:20221106T020000Z
TZOFFSETFROM:-0500
TZOFFSETTO:-0600
END:STANDARD
BEGIN:DAYLIGHT
DTSTART:20230312T020000Z
TZOFFSETFROM:-0600
TZOFFSETTO:-0500
END:DAYLIGHT
END:VTIMEZONE
BEGIN:VTIMEZONE
TZID:UTC
BEGIN:STANDARD
DTSTART:20250726T111911Z
TZOFFSETFROM:+0000
TZOFFSETTO:+0000
END:STANDARD
END:VTIMEZONE
BEGIN:VEVENT
UID:1447-343
DTSTAMP:20260422T111911Z
SUMMARY:Treasures of the Church
LOCATION:
ORGANIZER;CN=samcsa:MAILTO:valerie.s.garcia@icloud.com
RRULE:FREQ=DAILY;UNTIL=20221121T000000Z
DTSTART;TZID=America/Chicago;VALUE=DATE:20221121
DTEND;TZID=America/Chicago;VALUE=DATE:20221122
X-ALT-DESC;FMTTYPE=TEXT/HTML:Treasures of the Church is a ministry of evang
 elization of the Catholic Church.  Directed by Fr. Carlos Martins\, its 
 purpose is to give people an experience of the living God through an encou
 nter with the relics of his saints in the form of an exposition.  Each ex
 position begins with a multi-media presentation on the Church’s use&amp;hell
 ip\;
CATEGORIES:Community events
URL;VALUE=URI:https://samcsa.com/mc-events/treasures-of-the-church/?mc_id=1
 447
METHOD:PUBLISH
END:VEVENT
END:VCALENDAR