BEGIN:VCALENDAR
VERSION:2.0
PRODID:spatie/icalendar-generator
DESCRIPTION:Events from St. Anthony Mary Claret Roman Catholic Church
X-WR-CALDESC:Events from St. Anthony Mary Claret Roman Catholic Church
REFRESH-INTERVAL;VALUE=DURATION:PT1440M
X-PUBLISHED-TTL:PT1440M
BEGIN:VTIMEZONE
TZID:America/Chicago
BEGIN:STANDARD
DTSTART:20221106T020000Z
TZOFFSETFROM:-0500
TZOFFSETTO:-0600
END:STANDARD
BEGIN:DAYLIGHT
DTSTART:20230312T020000Z
TZOFFSETFROM:-0600
TZOFFSETTO:-0500
END:DAYLIGHT
END:VTIMEZONE
BEGIN:VTIMEZONE
TZID:UTC
BEGIN:STANDARD
DTSTART:20250726T084556Z
TZOFFSETFROM:+0000
TZOFFSETTO:+0000
END:STANDARD
END:VTIMEZONE
BEGIN:VEVENT
UID:1525-421
DTSTAMP:20260422T084556Z
SUMMARY:Retreat to Bethlehem
LOCATION:
ORGANIZER;CN=samcsa:MAILTO:valerie.s.garcia@icloud.com
DTSTART;TZID=America/Chicago:20221217T180000
DTEND;TZID=America/Chicago:20221217T190000
X-ALT-DESC;FMTTYPE=TEXT/HTML:Prepare your Heart this Advent for the coming 
 of our Savior. Come and Retreat to Bethlehem! Bring your family to Sanctus
  Ranch Retreat Center in Pipe Creek\, TX (40 minutes NW of San Antonio Tex
 as) for an inspiring evening as you retreat back in time and journey toget
 her to ancient Bethlehem in this most unique&amp;hellip\;
CATEGORIES:Community events
URL;VALUE=URI:https://samcsa.com/mc-events/retreat-to-bethlehem-2/
METHOD:PUBLISH
END:VEVENT
END:VCALENDAR