BEGIN:VCALENDAR
VERSION:2.0
PRODID:spatie/icalendar-generator
DESCRIPTION:Events from St. Anthony Mary Claret Roman Catholic Church
X-WR-CALDESC:Events from St. Anthony Mary Claret Roman Catholic Church
REFRESH-INTERVAL;VALUE=DURATION:PT1440M
X-PUBLISHED-TTL:PT1440M
BEGIN:VTIMEZONE
TZID:America/Chicago
BEGIN:STANDARD
DTSTART:20221106T020000Z
TZOFFSETFROM:-0500
TZOFFSETTO:-0600
END:STANDARD
BEGIN:DAYLIGHT
DTSTART:20230312T020000Z
TZOFFSETFROM:-0600
TZOFFSETTO:-0500
END:DAYLIGHT
END:VTIMEZONE
BEGIN:VTIMEZONE
TZID:UTC
BEGIN:STANDARD
DTSTART:20250725T234249Z
TZOFFSETFROM:+0000
TZOFFSETTO:+0000
END:STANDARD
END:VTIMEZONE
BEGIN:VEVENT
UID:1587-483
DTSTAMP:20260421T234249Z
SUMMARY:Epiphany Fundraising Dinner
LOCATION:N/A
ORGANIZER;CN=samcsa:MAILTO:valerie.s.garcia@icloud.com
DTSTART;TZID=America/Chicago:20230105T180000
DTEND;TZID=America/Chicago:20230105T190000
X-ALT-DESC;FMTTYPE=TEXT/HTML:Keynote speaker: Mark Houck Founder &amp;amp\; Pre
 sident of The King's Men\, Inc. Mark is an author and internationally know
 n motivational speaker who developed in 2004 a highly successful ministry 
 to help others become better leaders\, protectors and providers. As a devo
 ut Catholic and proud pro-life advocate he has recently come under attack 
 for living out&amp;hellip\;
CATEGORIES:Community events
URL;VALUE=URI:https://samcsa.com/mc-events/epiphany-fundraising-dinner/
METHOD:PUBLISH
END:VEVENT
END:VCALENDAR