BEGIN:VCALENDAR
VERSION:2.0
PRODID:spatie/icalendar-generator
DESCRIPTION:Events from St. Anthony Mary Claret Roman Catholic Church
X-WR-CALDESC:Events from St. Anthony Mary Claret Roman Catholic Church
REFRESH-INTERVAL;VALUE=DURATION:PT1440M
X-PUBLISHED-TTL:PT1440M
BEGIN:VTIMEZONE
TZID:America/Chicago
BEGIN:STANDARD
DTSTART:20221106T020000Z
TZOFFSETFROM:-0500
TZOFFSETTO:-0600
END:STANDARD
BEGIN:DAYLIGHT
DTSTART:20230312T020000Z
TZOFFSETFROM:-0600
TZOFFSETTO:-0500
END:DAYLIGHT
END:VTIMEZONE
BEGIN:VTIMEZONE
TZID:UTC
BEGIN:STANDARD
DTSTART:20250727T025037Z
TZOFFSETFROM:+0000
TZOFFSETTO:+0000
END:STANDARD
END:VTIMEZONE
BEGIN:VEVENT
UID:2442-552
DTSTAMP:20260423T025037Z
SUMMARY:New Wine Women's Retreat
LOCATION:N/A
ORGANIZER;CN=samcsa:MAILTO:valerie.s.garcia@icloud.com
RRULE:FREQ=DAILY;UNTIL=20230219T000000Z
DTSTART;TZID=America/Chicago;VALUE=DATE:20230219
DTEND;TZID=America/Chicago;VALUE=DATE:20230220
X-ALT-DESC;FMTTYPE=TEXT/HTML:Retreat with other women and enjoy a glass of 
 wine (or more)\, time of unscripted fellowship\, personal prayer time and 
 some pampering. This 3-day retreat will include inspiring talks\, fun acti
 vities\, down time and opportunities to Worship our Lord Jesus Christ.
CATEGORIES:Community events
URL;VALUE=URI:https://samcsa.com/mc-events/new-wine-womens-retreat/?mc_id=2
 442
METHOD:PUBLISH
END:VEVENT
END:VCALENDAR